Workbook

Sheet Dashboard
A1: Responsible Products SELF ASSESSMENT Checklist | F1: © 2025 NZ Sustainable Steel Council
A2: Version 20260617
A3: Please note - This is a self assessment to use in preparing your audit submission - it is NOT the audit - ensure you read and understand the relevant credit criteria in the Audit Guide
D4: Level 1 | E4: Level 2b | F4: Level 2a | G4: Level 3
D5: 7 | E5: 8 | F5: 12 | G5: 14 | H5: Note - these are not RPV points - they are the number of cells with a pass
D8: Responsible Product Certification
B9: Governance | D9: Level 1 | E9: Level 2b (No EPD) | F9: Level 2a (EPD) | G9: Level 3
B10: 1.1 | C10: Business Integrity | D10: ='RPP Level 1'!G9 | E10: ='RPP Level 2b'!G9 | F10: ='RPP Level 2a'!G9 | G10: ='RPP Level 3'!G9
B11: 1.2a | C11: Management Systems: Governance | D11: ='RPP Level 1'!G15 | E11: ='RPP Level 2b'!G15 | F11: ='RPP Level 2a'!G15 | G11: ='RPP Level 3'!G15
B12: 1.2b | C12: Management Systems: Safety Management | D12: ='RPP Level 1'!G22 | E12: ='RPP Level 2b'!G22 | F12: ='RPP Level 2a'!G22 | G12: ='RPP Level 3'!G22
B13: 1.3 | C13: Stakeholder Engagement | D13: ='RPP Level 1'!G32 | E13: ='RPP Level 2b'!G32 | F13: ='RPP Level 2a'!G32 | G13: ='RPP Level 3'!G32
B14: Responsible
B15: 2.1 | C15: Environmental Management System | D15: ='RPP Level 1'!G36 | E15: ='RPP Level 2b'!G36 | F15: ='RPP Level 2a'!G36 | G15: ='RPP Level 3'!G36
B16: 2.2 | C16: Environmental Product Declaration (EPD) | F16: ='RPP Level 2a'!G46 | G16: ='RPP Level 3'!G46
B17: 2.3 | C17: Health Impacts Declaration | G17: ='RPP Level 3'!G59
B18: Healthy
B19: 3.1 | C19: Paints and Coatings | E19: ='RPP Level 2b'!G47 | F19: ='RPP Level 2a'!G63 | G19: ='RPP Level 3'!G63
B20: 3.2 | C20: Manufacturing OH&S Management | D20: ='RPP Level 1'!G47 | E20: ='RPP Level 2b'!G53 | F20: ='RPP Level 2a'!G79 | G20: ='RPP Level 3'!G69
B21: 3.3 | C21: Procurement OH&S Assessment | F21: ='RPP Level 2a'!G79 | G21: ='RPP Level 3'!G79
B22: 3.4 | C22: Modern Slavery | F22: ='RPP Level 2a'!G83 | G22: ='RPP Level 3'!G83
B23: Positive
B24: 4.1 | C24: Steel Supply Sourcing | D24: ='RPP Level 1'!G57 | E24: ='RPP Level 2b'!G63 | F24: ='RPP Level 2a'!G97 | G24: ='RPP Level 3'!G95
B25: 4.2 | C25: Carbon Emissions Reduction (Mfg) | G25: ='RPP Level 3'!G133
B26: Circular
B27: 5.1 | C27: Resource Management | F27: ='RPP Level 2a'!G135 | G27: ='RPP Level 3'!G137
D29: =COUNTIF(D10:D27,"Pass") -> 0 | E29: =COUNTIF(E10:E27,"Pass") -> 0 | F29: =COUNTIF(F10:F27,"Pass") -> 0 | G29: =COUNTIF(G10:G27,"Pass") -> 0
D30: =D4 -> Level 1 | E30: =E4 -> Level 2b | F30: =F4 -> Level 2a | G30: =G4 -> Level 3
C31: Indictive audit outcome based on self assessment | D31: =IF(D29=D5,"Achieved"," ") | E31: =IF(E29=E5,"Achieved"," ") | F31: =IF(F29=F5,"Achieved"," ") | G31: =IF(G29=G5,"Achieved"," ")
C32: RPV | D32: =IF(D31="Achieved",4,"-") -> - | E32: =IF(E31="Achieved",11,"-") -> - | F32: =IF(F31="Achieved",14,"-") -> - | G32: =IF(G31="Achieved",18,"-") -> -
B35: Worksheet Example 1 Contracted
B50: Worksheet Example 2 - Expanded
B65: Worksheet Example 3 - Completed Credits Expanded
B82: Worksheet Example 4 - Completed Credits Contracted

Sheet RPP Level 1
A1: Responsible Products SELF ASSESSMENT Checklist | C1: Level 1 (RPV 4)
A2: =Dashboard!A2 -> Version 20260617
A3: =Dashboard!A3 -> Please note - This is a self assessment to use in preparing your audit submission - it is NOT the audit - ensure you read and understand the relevant credit criteria in the Audit Guide
A4: Use the '+' and '-' signs at the left side of the sheet to open or close the credit - THEN - Select your status using the dropdown menue in the applicable box at Column A - THEN - Read and action any advice
A5: To keep yourself focussed and avoid and visual clutter - we suggest you work on one credit at a time.
F6: Score
A7: Select your Status | B7: Credits | C7: Commentary
A9: =IF(SUM(D10:D12)>0,"OK"," ") | B9: Credit 1.1: Business Integrity | F9: =IF(A9="OK",1,0) -> 0 | G9: =IF(F9>0,"Pass"," ")
A10: - | B10: We have current ISO 9001 accreditation | C10: =IF(A10="Yes","Congratulations you have everything required to pass Credit 1.1 - you will need a copy of your certification as evidence",IF(A10="No","Refer below","-")) -> - | D10: =IF(A10="Yes",1,"-") -> - | G10: =IF(F10>0,"Pass"," ")
A11: q | B11: OR | C11: q | D11: =IF(A11="Yes",1,"-") -> - | G11: =IF(F11>0,"Pass"," ")
A12: - | B12: We have a formalised written Code of Conduct addressing the required policies | C12: =IF(A12="Yes","To pass Credit 1.1 please provide evidence that your Code of Conduct contains the required policies and staff are trained - see Audit Guide",IF(A12="No","If no ISO9001 or Written Code - Not Compliant - develop required policies - See Audit Guide for Credit 1.1 criteria","-")) -> - | D12: =IF(A12="Yes",1,"-") -> - | G12: =IF(F12>0,"Pass"," ")
G13: =IF(F13>0,"Pass"," ")
D14: =IF(A14="Yes",1,"-") -> - | G14: =IF(F14>0,"Pass"," ")
A15: =IF(SUM(D16:D30)>0,"OK"," ") | B15: Credit 1.2a: Business Governance | F15: =IF(A15="OK",1,0) -> 0 | G15: =IF(F15>0,"Pass"," ")
A16: - | B16: =B10 -> We have current ISO 9001 accreditation | C16: =IF(A16="Yes","Congratulations you have everything required to pass Credit 1.2a - you will need a copy of your certification as evidence",IF(A16="No","Refer below","-")) -> - | D16: =IF(A16="Yes",1,"-") -> - | G16: =IF(F16>0,"Pass"," ")
B17: OR | D17: =IF(A17="Yes",1,"-") -> - | G17: =IF(F17>0,"Pass"," ")
A18: - | B18: We have a written Business Management System (BMS) | C18: =IF(A18="Yes","To pass Credit 1.2a please provide evidence that your BMS contains the required policies and staff are trained - see Audit Guide Credit 1.2a",IF(A18="No","If no ISO9001 or BMS - Not Compliant - develop required policies - See Audit Guide","-")) -> - | D18: =IF(A18="Yes",1,"-") -> - | G18: =IF(F18>0,"Pass"," ")
B19: Not required if ISO9001 held as it sits within the standard | D19: =IF(A19="Yes",1,"-") -> - | G19: =IF(F19>0,"Pass"," ")
D20: =IF(A20="Yes",1,"-") -> - | G20: =IF(F20>0,"Pass"," ")
G21: =IF(F21>0,"Pass"," ")
A22: =IF(SUM(D22:D30)>0,"OK"," ") | B22: Credit 1.2b: Safety Management System | F22: =IF(A22="OK",1,0) -> 0 | G22: =IF(F22>0,"Pass"," ")
A23: - | B23: We have current ISO 45001:2018 accreditation | C23: =IF(A23="Yes","Congratulations you have everything required to pass Credit 1.2b - provide a copy of your certification as evidence",IF(A23="No","Refer below","-")) -> - | D23: =IF(A23="Yes",1,"-") -> - | G23: =IF(F23>0,"Pass"," ")
B24: OR | G24: =IF(F24>0,"Pass"," ")
A25: - | B25: We have current 'Site Wise' or 'Tōtika' Accreditation | C25: =IF(A25="Yes","Congratulations you have everything required to pass Credit 1.2b - provide a copy of your certification as evidence",IF(A25="No","Refer below","-")) -> - | D25: =IF(A25="Yes",1,"-") -> - | G25: =IF(F25>0,"Pass"," ")
B26: OR | G26: =IF(F26>0,"Pass"," ")
A27: - | B27: We are a member of the ACC Accredited Employer's Programme | C27: =IF(A27="Yes","Congratulations you have everything required to pass Credit 1.2b - provide a copy of your certification as evidence",IF(A27="no","Refer below","-")) -> - | D27: =IF(A27="Yes",1,"-") -> - | G27: =IF(F27>0,"Pass"," ")
B28: OR | D28: =IF(A28="Yes",1,"-") -> - | G28: =IF(F28>0,"Pass"," ")
A29: - | B29: We have a comprehensive documented in-house H&S management system | C29: =IF(A29="Yes","Please provide evidence that your H&S system contains the required policies and staff are trained - see Audit Guide",IF(A29="No","If no documented policy or none of the above -Not Compliant - develop required policies - See Audit Guide for Credit 1.2b criteria","-")) -> - | D29: =IF(A29="Yes",1,"-") -> - | G29: =IF(F29>0,"Pass"," ")
D30: =IF(A30="Yes",1,"-") -> - | G30: =IF(F30>0,"Pass"," ")
D31: =IF(A31="Yes",1,"-") -> - | G31: =IF(F31>0,"Pass"," ")
A32: =IF(SUM(D33)>0,"OK"," ") | B32: Credit 1.3: Stakeholder Engagement | F32: =IF(A32="OK",1,0) -> 0 | G32: =IF(F32>0,"Pass"," ")
A33: - | B33: We have a stakeholder communication plan that meets the audit criteria | C33: =IF(A33="Yes","You appear to meet the criteria for pass - please provide evidence of compliance with the requirements - See Audit Guide",IF(A33="No","Not compliant - develop required policy and processes - See audit Guide for Credit 1.3 criteria","-")) -> - | D33: =IF(A33="Yes",1,"-") -> - | G33: =IF(F33>0,"Pass"," ")
D34: =IF(A34="Yes",1,"-") -> - | G34: =IF(F34>0,"Pass"," ")
G35: =IF(F35>0,"Pass"," ")
A36: =IF(SUM(D37:D43)>0,"OK","") | B36: Credit 2.1: Environmental Management System | D36: =(IF(SUM(D37:D43)>0,1," ")) | F36: =IF(A36="OK",1,0) -> 0 | G36: =IF(F36>0,"Pass"," ")
A37: - | B37: We have current ISO14001:2016 accreditation | C37: =IF(A37="Yes","Congratulations you have everything required to pass Credit 2.1 - provide a copy of your certification as evidence",IF(A37="No","Refer below","")) | D37: =IF(A37="Yes",1,"-") -> - | G37: =IF(F37>0,"Pass"," ")
B38: OR | D38: =IF(A38="Yes",1,"-") -> - | G38: =IF(F38>0,"Pass"," ")
A39: - | B39: We are certified to BS7750 or EMAS, or EPA Environmental Mgnmt Guidelines | C39: =IF(A39="Yes","Congratulations you have everything required to pass Credit 2.1 - provide a copy of your certification as evidence",IF(A39="No","Refer below","")) | D39: =IF(A39="Yes",1,"-") -> - | G39: =IF(F39>0,"Pass"," ")
B40: OR | D40: =IF(A40="Yes",1,"-") -> - | G40: =IF(F40>0,"Pass"," ")
A41: - | B41: We have Toitu Gold or Diamond Certification | C41: =IF(A41="Yes","Congratulations you have everything required to pass Credit 2.1 - provide a copy of your certification as evidence",IF(A41="No","Refer below","")) | D41: =IF(A41="Yes",1,"-") -> - | G41: =IF(F41>0,"Pass"," ")
B42: OR | D42: =IF(A42="Yes",1,"-") -> - | G42: =IF(F42>0,"Pass"," ")
A43: - | B43: We have a documented in-house Environmental Management System (EMS) | C43: =IF(A43="Yes","Please provide evidence that your Environmental Management system contains the required policies and staff are trained - see Audit Guide",IF(A43="No","If none of the above, and no documented EMS, or the EMS doesn't meet the standard - Not Compliant - develop required policies - See Audit Guide","")) | D43: =IF(A43="Yes",1,"-") -> - | G43: =IF(F43>0,"Pass"," ")
G44: =IF(F44>0,"Pass"," ")
G45: =IF(F45>0,"Pass"," ")
G46: =IF(F46>0,"Pass"," ")
A47: =IF(SUM(D48:D55)>0,"OK"," ") | B47: Credit 3.2: Manufacturing OH&S Management | F47: =IF(A47="OK",1,0) -> 0 | G47: =IF(F47>0,"Pass"," ")
A48: - | B48: We have current ISO 45001:2018 accreditation | C48: =IF(A48="Yes","Congratulations you have everything required to pass Credit 1.2b - provide a copy of your certification as evidence",IF(A48="No","Refer below","-")) -> - | D48: =IF(A48="Yes",1,"-") -> - | G48: =IF(F48>0,"Pass"," ")
B49: OR | D49: =IF(A49="Yes",1,"-") -> - | G49: =IF(F49>0,"Pass"," ")
A50: - | B50: We have current 'Site Wise' Accreditation | C50: =IF(A50="Yes","Congratulations you have everything required to pass Credit 1.2b - provide a copy of your certification as evidence",IF(A50="No","Refer below","-")) -> - | D50: =IF(A50="Yes",1,"-") -> - | G50: =IF(F50>0,"Pass"," ")
B51: OR | D51: =IF(A51="Yes",1,"-") -> - | G51: =IF(F51>0,"Pass"," ")
A52: - | B52: We are a member of the ACC Accredited Employer's Programme | C52: =IF(A52="Yes","Congratulations you have everything required to pass Credit 1.2b - provide a copy of your certification as evidence",IF(A52="No","Refer below","-")) -> - | D52: =IF(A52="Yes",1,"-") -> - | G52: =IF(F52>0,"Pass"," ")
B53: OR | D53: =IF(A53="Yes",1,"-") -> - | G53: =IF(F53>0,"Pass"," ")
A54: - | B54: We have a comprehensive documented in-house H&S management system | C54: =IF(A54="Yes","Please provide evidence that your H&S system contains the required policies and staff are trained - see Audit Guide",IF(A54="No","If no documented policy or none of the above -Not Compliant - develop required policies - See Audit Guide for Credit 3.2 criteria","-")) -> - | D54: =IF(A54="Yes",1,"-") -> - | G54: =IF(F54>0,"Pass"," ")
D55: =IF(A55="Yes",1,"-") -> - | G55: =IF(F55>0,"Pass"," ")
G56: =IF(F56>0,"Pass"," ")
A57: =IF(D58=1,"OK",IF(SUM(E62:E90)=5,"OK"," ")) | B57: Credit 4.1: Steel Supply Sourcing | F57: =IF(A57="OK",1,0) -> 0 | G57: =IF(F57>0,"Pass"," ")
A58: - | B58: This is our 1st RPP audit and we invoke the 12 month grace period for Credit 4.1 | C58: =IF(A58="Yes","To enact the grace period you need to show evidence that you have reached out to your steel suppliers for the required evidence on the prescribed form",IF(A58="No","Refer below if grace period not invoked and respond to: 4.1a/4.1b/4.1c/4.1d","-")) -> - | D58: =IF(A58="Yes",1," ") | G58: =IF(F58>0,"Pass"," ")
B59: If you are invoking the grace period, you do not need to respond to any other part of 4.1 | D59: =IF(A63="Yes",1,"-") -> - | G59: =IF(F59>0,"Pass"," ")
A60: OR | G60: =IF(F60>0,"Pass"," ")
A62: =IF(E62>0,"OK"," ") | B62: Credit 4.1a Environmental product Declaration (EPD) | C62: See the Credit 4.1 Compliance Checklist Tool to assist in evaluating mills under credits 4.1a to 4.1e | E62: =IF(SUM(D63:D67)>0,1,0) -> 0 | G62: =IF(F62>0,"Pass"," ")
A63: - | B63: The suppliers of 70% of our steel purchases have ASI or SSC RPP certification | C63: =IF(A63="Yes","You appear to met the criteria for a pass - please provide evidence of supplier certifications and % purchases from those suppliers compared to total",IF(A63="No","Refer below","-")) -> - | D63: =IF(A63="Yes",1,"-") -> - | G63: =IF(F63>0,"Pass"," ")
B64: OR | G64: =IF(F64>0,"Pass"," ")
A65: - | B65: We have Environmental Product Declarations (EPD) for 70% of steel purchases | C65: =IF(A65="Yes","Provide evidence of %ge and EPDs compliant with EN15804",IF(A65="No","Refer below","-")) -> - | D65: =IF(A65="Yes",1,"-") -> - | G65: =IF(F65>0,"Pass"," ")
B66: OR | G66: =IF(F66>0,"Pass"," ")
A67: - | B67: 4.1a: Steel supply carbon footprint for 70% purchases is ISO 14067:2018 compliant | C67: =IF(A67="Yes","You appear to meet the criteria for pass - please provide evidence of compliance with the requirements - See Audit Guide",IF(A67="No","If response is 'no' to all options under Credit 4.1a - Non Compliant - refer to Audit Guide","-")) -> - | D67: =IF(A67="Yes",1,"-") -> - | G67: =IF(F67>0,"Pass"," ")
A69: =IF(E69>0,"OK"," ") | B69: Credit 4.1b:Decarbonisation Requirements | E69: =IF(SUM(D70:D72)>0,1,0) -> 0 | G69: =IF(F69>0,"Pass"," ")
A70: - | B70: The suppliers of 70% of your steel purchases have ASI or SSC RPP certification | C70: =IF(A70="Yes","You appear to met the criteria for a pass - please provide evidence of supplier certifications and % purchases from those suppliers compared to total",IF(A70="No","Refer below","-")) -> - | D70: =IF(A70="Yes",1,"-") -> - | G70: =IF(F70>0,"Pass"," ")
B71: OR | D71: =IF(A71="Yes",1,"-") -> - | G71: =IF(F71>0,"Pass"," ")
A72: - | B72: Your suppliers meet decarbonisation criteria for Credit 4.1a Decarbonisation | C72: =IF(A72="Yes","You appear to met the criteria for a pass - please provide evidence of supplier compliance as per Credit 4.1b in the Audit Guide", IF(A72="No","If 'no' to both options for Credit 4.1b - Non Compliant - refer to Audit guide","-")) -> - | D72: =IF(A72="Yes",1,"-") -> - | G72: =IF(F72>0,"Pass"," ")
A74: =IF(E74>0,"OK"," ") | B74: Credit 4.1c: Environmental Management | E74: =IF(SUM(D75:D77)>0,1,0) -> 0 | G74: =IF(F74>0,"Pass"," ")
A75: - | B75: The suppliers of 70% of our steel purchases have ASI or SSC RPP certification | C75: =IF(A75="Yes","You appear to met the criteria for a pass - please provide evidence of supplier certifications and % purchases from those suppliers compared to total",IF(A75="No","Refer below","-")) -> - | D75: =IF(A75="Yes",1,"-") -> - | G75: =IF(F75>0,"Pass"," ")
B76: OR | D76: =IF(A76="Yes",1,"-") -> - | G76: =IF(F76>0,"Pass"," ")
A77: - | B77: Manufacturers of 70% of our steel supplies are accredited to ISO14001 | C77: =IF(A77="Yes","You appear to met the criteria for a pass - please provide evidence of supplier certifications and % purchases from those suppliers compared to total",IF(A77="No","If 'no' to both options for Credit 4.1c - Non Compliant - refer to Audit Guide","-")) -> - | D77: =IF(A77="Yes",1,"-") -> - | G77: =IF(F77>0,"Pass"," ")
A79: =IF(E79>0,"OK"," ") | B79: Credit 4.1d: Water Use Reduction | E79: =IF(SUM(D80:D84)>0,1,0) -> 0 | G79: =IF(F79>0,"Pass"," ")
A80: - | B80: =B75 -> The suppliers of 70% of our steel purchases have ASI or SSC RPP certification | C80: =IF(A80="Yes","You appear to met the criteria for a pass - please provide evidence of supplier certifications and % purchases from those suppliers compared to total",IF(A80="No","Refer below","-")) -> - | D80: =IF(A80="Yes",1,"-") -> - | G80: =IF(F80>0,"Pass"," ")
B81: OR | D81: =IF(A81="Yes",1,"-") -> - | G81: =IF(F81>0,"Pass"," ")
A82: - | B82: Manufacturers of 70% of our steel supplies have been reducing water use over 5 years | C82: =IF(A82="Yes","You appear to met the criteria for a pass - please provide evidence of supplier water use reductions and % purchases from those suppliers compared to total",IF(A82="No","Refer below","-")) -> - | D82: =IF(A82="Yes",1,"-") -> - | G82: =IF(F82>0,"Pass"," ")
B83: OR | D83: =IF(A83="Yes",1,"-") -> - | G83: =IF(F83>0,"Pass"," ")
A84: - | B84: Manufacturer has provided evidence of initiatives to recycle and or reuse of water | C84: =IF(A84="Yes","You appear to met the criteria for a pass - please provide evidence of supplier certifications and % purchases from those suppliers compared to total",IF(A84="No","If 'no' to all options for Credit 4.1d - Non Compliant - refer to Audit Guide","-")) -> - | D84: =IF(A84="Yes",1,"-") -> - | G84: =IF(F84>0,"Pass"," ")
A86: =IF(E86>0,"OK"," ") | B86: Credit 4.1e: Responsible Sourcing | E86: =IF(SUM(D87:D93)>0,1,0) -> 0 | G86: =IF(F86>0,"Pass"," ")
A87: - | B87: We have Toitu Gold or Diamond certification | C87: =IF(A87="Yes","Congratulations you have everything required to pass Credit 4.1e - you will need a copy of your certification as evidence",IF(A10="No","Refer below","-")) -> - | D87: =IF(A87="Yes",1,"-") -> - | G87: =IF(F87>0,"Pass"," ")
B88: OR | D88: =IF(A88="Yes",1,"-") -> - | G88: =IF(F88>0,"Pass"," ")
A89: - | B89: Steel Manufacturer is certified to the Responsible Steel standard | C89: =IF(A89="Yes","Congratulations you have everything required to pass Credit 4.1e - you will need a copy of your certification as evidence",IF(A10="No","Refer below","-")) -> - | D89: =IF(A89="Yes",1,"-") -> - | G89: =IF(F89>0,"Pass"," ")
B90: OR | D90: =IF(A90="Yes",1,"-") -> - | G90: =IF(F90>0,"Pass"," ")
A91: - | B91: Steel manufacturer has Eco Choice Aotearoa certification | C91: =IF(A91="Yes","Congratulations you have everything required to pass Credit 4.1e - you will need a copy of your certification as evidence",IF(A10="No","Refer below","-")) -> - | D91: =IF(A91="Yes",1,"-") -> - | G91: =IF(F91>0,"Pass"," ")
B92: OR | D92: =IF(A92="Yes",1,"-") -> - | G92: =IF(F92>0,"Pass"," ")
A93: - | B93: Manufacturer meets 3.4 + has an in-house Responsible Sourcing Policy + meets 1.1 | C93: =IF(A93="Yes","You appear to met the criteria for a pass - please provide evidence of supplier certifications and % purchases from those suppliers compared to total",IF(A93="No","If 'no' to all options for Credit 4.1e - Non Compliant - refer to Audit Guide","-")) -> - | D93: =IF(A93="Yes",1,"-") -> - | G93: =IF(F93>0,"Pass"," ")
G94: =IF(F94>0,"Pass"," ")
F95: =SUM(F9:F94) -> 0 | G95: =IF(F95>0,"Pass"," ")
A97: © 2025 NZ Sustainable Steel Council

Sheet RPP Level 2b
A1: ='RPP Level 1'!A1 -> Responsible Products SELF ASSESSMENT Checklist | C1: Level 2b (RPV 11)
A2: =Dashboard!A2 -> Version 20260617
A3: ='RPP Level 1'!A3 -> Please note - This is a self assessment to use in preparing your audit submission - it is NOT the audit - ensure you read and understand the relevant credit criteria in the Audit Guide
A4: ='RPP Level 1'!A4 -> Use the '+' and '-' signs at the left side of the sheet to open or close the credit - THEN - Select your status using the dropdown menue in the applicable box at Column A - THEN - Read and action any advice
A5: ='RPP Level 1'!A5 -> To keep yourself focussed and avoid and visual clutter - we suggest you work on one credit at a time.
A7: ='RPP Level 1'!A7 -> Select your Status | B7: Credits | C7: Commentary
A9: =IF(SUM(D10:D12)>0,"OK"," ") | B9: Credit 1.1: Business Integrity | F9: =IF(A9="OK",1,0) -> 0 | G9: =IF(F9=1,"Pass"," ")
A10: - | B10: We have current ISO 9001 accreditation | C10: =IF(A10="Yes","Congratulations you have everything required to pass Credit 1.1 - you will need a copy of your certification as evidence",IF(A10="No","Refer below","-")) -> - | D10: =IF(A10="Yes",1,"-") -> - | G10: =IF(F10=1,"Pass"," ")
A11: q | B11: OR | C11: q | D11: =IF(A11="Yes",1,"-") -> - | G11: =IF(F11=1,"Pass"," ")
A12: - | B12: We have a formalised written Code of Conduct addressing the required policies | C12: =IF(A12="Yes","To pass Credit 1.1 please provide evidence that your Code of Conduct contains the required policies and staff are trained - see Audit Guide",IF(A12="No","If no ISO9001 or Written Code - Not Compliant - develop required policies - See Audit Guide for Credit 1.1 criteria","-")) -> - | D12: =IF(A12="Yes",1,"-") -> - | G12: =IF(F12=1,"Pass"," ")
G13: =IF(F13=1,"Pass"," ")
D14: =IF(A14="Yes",1,"-") -> - | G14: =IF(F14=1,"Pass"," ")
A15: =IF(SUM(D16:D20)>0,"OK"," ") | B15: Credit 1.2a: Business Governance | F15: =IF(A15="OK",1,0) -> 0 | G15: =IF(F15=1,"Pass"," ")
A16: - | B16: =B10 -> We have current ISO 9001 accreditation | C16: =IF(A16="Yes","Congratulations you have everything required to pass Credit 1.2a - you will need a copy of your certification as evidence",IF(A16="No","Refer below","-")) -> - | D16: =IF(A16="Yes",1,"-") -> - | G16: =IF(F16=1,"Pass"," ")
B17: OR | D17: =IF(A17="Yes",1,"-") -> - | G17: =IF(F17=1,"Pass"," ")
A18: - | B18: We have a written Business Management System (BMS) | C18: =IF(A18="Yes","To pass Credit 1.2a please provide evidence that your BMS contains the required policies and staff are trained - see Audit Guide Credit 1.2a",IF(A18="No","If no ISO9001 or BMS - Not Compliant - develop required policies - See Audit Guide","-")) -> - | D18: =IF(A18="Yes",1,"-") -> - | G18: =IF(F18=1,"Pass"," ")
B19: Not required if ISO9001 held as it sits within the standard | D19: =IF(A19="Yes",1,"-") -> - | G19: =IF(F19=1,"Pass"," ")
D20: =IF(A20="Yes",1,"-") -> - | G20: =IF(F20=1,"Pass"," ")
G21: =IF(F21=1,"Pass"," ")
A22: =IF(SUM(D21:D30)>0,"OK"," ") | B22: Credit 1.2b: Safety Management System | F22: =IF(A22="OK",1,0) -> 0 | G22: =IF(F22=1,"Pass"," ")
A23: - | B23: We have current ISO 45001:2018 accreditation | C23: =IF(A23="Yes","Congratulations you have everything required to pass Credit 1.2b - provide a copy of your certification as evidence",IF(A23="No","Refer below","-")) -> - | D23: =IF(A23="Yes",1,"-") -> - | G23: =IF(F23=1,"Pass"," ")
B24: OR | D24: =IF(A24="Yes",1,"-") -> - | G24: =IF(F24=1,"Pass"," ")
A25: - | B25: We have current 'Site Wise' Accreditation | C25: =IF(A25="Yes","Congratulations you have everything required to pass Credit 1.2b - provide a copy of your certification as evidence",IF(A25="No","Refer below","-")) -> - | D25: =IF(A25="Yes",1,"-") -> - | G25: =IF(F25=1,"Pass"," ")
B26: OR | D26: =IF(A26="Yes",1,"-") -> - | G26: =IF(F26=1,"Pass"," ")
A27: - | B27: We are a member of the ACC Accredited Employer's Programme | C27: =IF(A27="Yes","Congratulations you have everything required to pass Credit 1.2b - provide a copy of your certification as evidence",IF(A27="no","Refer below","-")) -> - | D27: =IF(A27="Yes",1,"-") -> - | G27: =IF(F27=1,"Pass"," ")
B28: OR | D28: =IF(A28="Yes",1,"-") -> - | G28: =IF(F28=1,"Pass"," ")
A29: - | B29: We have a comprehensive documented in-house H&S management system | C29: =IF(A29="Yes","Please provide evidence that your H&S system contains the required policies and staff are trained - see Audit Guide",IF(A29="No","If no documented policy or none of the above -Not Compliant - develop required policies - See Audit Guide for Credit 1.2b criteria","-")) -> - | D29: =IF(A29="Yes",1,"-") -> - | G29: =IF(F29=1,"Pass"," ")
D30: =IF(A30="Yes",1,"-") -> - | G30: =IF(F30=1,"Pass"," ")
D31: =IF(A31="Yes",1,"-") -> - | G31: =IF(F31=1,"Pass"," ")
A32: =IF(SUM(D33)>0,"OK"," ") | B32: Credit 1.3: Stakeholder Engagement | F32: =IF(A32="OK",1,0) -> 0 | G32: =IF(F32=1,"Pass"," ")
A33: - | B33: We have a stakeholder communication plan that meets the audit criteria | C33: =IF(A33="Yes","You appear to meet the criteria for pass - please provide evidence of compliance with the requirements - See Audit Guide",IF(A33="No","Not compliant - develop required policy and processes - See audit Guide for Credit 1.3 criteria","-")) -> - | D33: =IF(A33="Yes",1,"-") -> - | G33: =IF(F33=1,"Pass"," ")
D34: =IF(A34="Yes",1,"-") -> - | G34: =IF(F34=1,"Pass"," ")
G35: =IF(F35=1,"Pass"," ")
A36: =IF(SUM(D37:D43)>0,"OK","") | B36: Credit 2.1: Environmental Management System | D36: =(IF(SUM(D37:D43)>0,1," ")) | F36: =IF(A36="OK",1,0) -> 0 | G36: =IF(F36=1,"Pass"," ")
A37: - | B37: We have current ISO14001:2016 accreditation | C37: =IF(A37="Yes","Congratulations you have everything required to pass Credit 2.1 - provide a copy of your certification as evidence",IF(A37="No","Refer below","")) | D37: =IF(A37="Yes",1,"-") -> - | G37: =IF(F37=1,"Pass"," ")
B38: OR | D38: =IF(A38="Yes",1,"-") -> - | G38: =IF(F38=1,"Pass"," ")
A39: - | B39: We are certified to BS7750 or EMAS, or EPA Environmental Mgnmt Guidelines | C39: =IF(A39="Yes","Congratulations you have everything required to pass Credit 2.1 - provide a copy of your certification as evidence",IF(A39="No","Refer below","")) | D39: =IF(A39="Yes",1,"-") -> - | G39: =IF(F39=1,"Pass"," ")
B40: OR | D40: =IF(A40="Yes",1,"-") -> - | G40: =IF(F40=1,"Pass"," ")
A41: - | B41: We have Toitu Gold or Diamond Certification | C41: =IF(A41="Yes","Congratulations you have everything required to pass Credit 2.1 - provide a copy of your certification as evidence",IF(A41="No","Refer below","")) | D41: =IF(A41="Yes",1,"-") -> - | G41: =IF(F41=1,"Pass"," ")
B42: OR | D42: =IF(A42="Yes",1,"-") -> - | G42: =IF(F42=1,"Pass"," ")
A43: - | B43: We have a documented in-house Environmental Management System (EMS) | C43: =IF(A43="Yes","Please provide evidence that your Environmental Management system contains the required policies and staff are trained - see Audit Guide",IF(A43="No","If none of the above, and no documented EMS, or the EMS doesn't meet the standard - Not Compliant - develop required policies - See Audit Guide","")) | D43: =IF(A43="Yes",1,"-") -> - | G43: =IF(F43=1,"Pass"," ")
G44: =IF(F44=1,"Pass"," ")
G45: =IF(F45=1,"Pass"," ")
G46: =IF(F46=1,"Pass"," ")
A47: =IF(E47>0,"OK","") | B47: Credit 3.1: Paints and Coatings | E47: =SUM(D48:D50) -> 0 | F47: =IF(A47="OK",1,0) -> 0 | G47: =IF(F47=1,"Pass"," ")
A48: - | B48: We do not apply paints and coatings either on our sites or customer sites | C48: =IF(A48="Yes","Please complete the 'Mandatory Letter of Assurance' template provided in the Audit Portal",IF(A48="No","Refer below"," ")) | D48: =IF(A48="Yes",1,0) -> 0 | G48: =IF(F48=1,"Pass"," ")
B49: OR | G49: =IF(F49=1,"Pass"," ")
A50: - | B50: We apply paints and coatings and meet requirements for Credit 3.1 | C50: =IF(A50="Yes","You appear to meet requirements for 3.1 - please confirm with evidence demonstating compliance with Audit Guide Credit 3.1 requirements", IF(A50="No","If you do not meet either requirements in this section - Non Compliant", " ")) | D50: =IF(A50="Yes",1,0) -> 0 | G50: =IF(F50=1,"Pass"," ")
G51: =IF(F51=1,"Pass"," ")
G52: =IF(F52=1,"Pass"," ")
A53: =IF(SUM(D54:D61)>0,"OK"," ") | B53: Credit 3.2: Manufacturing OH&S Management | F53: =IF(A53="OK",1,0) -> 0 | G53: =IF(F53=1,"Pass"," ")
A54: - | B54: We have current ISO 45001:2018 accreditation | C54: =IF(A54="Yes","Congratulations you have everything required to pass Credit 1.2b - provide a copy of your certification as evidence",IF(A54="No","Refer below","-")) -> - | D54: =IF(A54="Yes",1,"-") -> - | G54: =IF(F54=1,"Pass"," ")
B55: OR | D55: =IF(A55="Yes",1,"-") -> - | G55: =IF(F55=1,"Pass"," ")
A56: - | B56: We have current 'Site Wise' or 'Tōtika' Accreditation | C56: =IF(A56="Yes","Congratulations you have everything required to pass Credit 1.2b - provide a copy of your certification as evidence",IF(A56="No","Refer below","-")) -> - | D56: =IF(A56="Yes",1,"-") -> - | G56: =IF(F56=1,"Pass"," ")
B57: OR | D57: =IF(A57="Yes",1,"-") -> - | G57: =IF(F57=1,"Pass"," ")
A58: - | B58: We are a member of the ACC Accredited Employer's Programme | C58: =IF(A58="Yes","Congratulations you have everything required to pass Credit 1.2b - provide a copy of your certification as evidence",IF(A58="No","Refer below","-")) -> - | D58: =IF(A58="Yes",1,"-") -> - | G58: =IF(F58=1,"Pass"," ")
B59: OR | D59: =IF(A59="Yes",1,"-") -> - | G59: =IF(F59=1,"Pass"," ")
A60: - | B60: We have a comprehensive documented in-house H&S management system | C60: =IF(A60="Yes","Please provide evidence that your H&S system contains the required policies and staff are trained - see Audit Guide",IF(A60="No","If no documented policy or none of the above -Not Compliant - develop required policies - See Audit Guide for Credit 3.2 criteria","-")) -> - | D60: =IF(A60="Yes",1,"-") -> - | G60: =IF(F60=1,"Pass"," ")
D61: =IF(A61="Yes",1,"-") -> - | G61: =IF(F61=1,"Pass"," ")
G62: =IF(F62=1,"Pass"," ")
A63: =IF(D64=1,"OK",IF(SUM(E67:E93)=5,"OK"," ")) | B63: Credit 4.1: Steel Supply Sourcing | F63: =IF(A63="OK",1,0) -> 0 | G63: =IF(F63=1,"Pass"," ")
A64: - | B64: This is our 1st RPP audit and we invoke the 12 month grace period for Credit 4.1 | C64: =IF(A64="Yes","To enact the grace period you need to show evidence that you have reached out to your steel suppliers for the required evidence on the prescribed form",IF(A64="No","Refer below if grace period not invoked and respond to: 4.1a/4.1b/4.1c/4.1d","-")) -> - | D64: =IF(A64="Yes",1," ") | G64: =IF(F64=1,"Pass"," ")
B65: If you are invoking the grace period, you do not need to respond to any other part of 4.1 | D65: =IF(A68="Yes",1,"-") -> - | G65: =IF(F65=1,"Pass"," ")
G66: =IF(F66=1,"Pass"," ")
A67: =IF(E67>0,"OK"," ") | B67: Credit 4.1a Environmental product Declaration (EPD) | C67: See the Credit 4.1 Compliance Checklist Tool to assist in evaluating mills under credits 4.1a to 4.1e | E67: =IF(SUM(D68:D70)>0,1,0) -> 0 | G67: =IF(F67=1,"Pass"," ")
A68: - | B68: The suppliers of 70% of our steel purchases have ASI or SSC RPP certification | C68: =IF(A68="Yes","You appear to met the criteria for a pass - please provide evidence of supplier certifications and % purchases from those suppliers compared to total",IF(A68="No","Refer below","-")) -> - | D68: =IF(A68="Yes",1,"-") -> - | G68: =IF(F68=1,"Pass"," ")
B69: OR | G69: =IF(F69=1,"Pass"," ")
A70: - | B70: 4.1a: Steel supply carbon footprint for 70% purchases is ISO 14067:2018 compliant | C70: =IF(A70="Yes","You appear to meet the criteria for pass - please provide evidence of compliance with the requirements - See Audit Guide",IF(A70="No","If response is 'no' to all options under Credit 4.1a - Non Compliant - refer to Audit Guide","-")) -> - | D70: =IF(A70="Yes",1,"-") -> - | G70: =IF(F70=1,"Pass"," ")
A72: =IF(E72>0,"OK"," ") | B72: Credit 4.1b:Decarbonisation Requirements | E72: =IF(SUM(D73:D75)>0,1,0) -> 0 | G72: =IF(F72=1,"Pass"," ")
A73: - | B73: The suppliers of 70% of your steel purchases have ASI or SSC RPP certification | C73: =IF(A73="Yes","You appear to met the criteria for a pass - please provide evidence of supplier certifications and % purchases from those suppliers compared to total",IF(A73="No","Refer below","-")) -> - | D73: =IF(A73="Yes",1,"-") -> - | G73: =IF(F73=1,"Pass"," ")
B74: OR | D74: =IF(A74="Yes",1,"-") -> - | G74: =IF(F74=1,"Pass"," ")
A75: - | B75: Your suppliers meet decarbonisation criteria for Credit 4.1a Decarbonisation | C75: =IF(A75="Yes","You appear to met the criteria for a pass - please provide evidence of supplier compliance as per Credit 4.1b in the Audit Guide", IF(A75="No","If 'no' to both options for Credit 4.1b - Non Compliant - refer to Audit guide","-")) -> - | D75: =IF(A75="Yes",1,"-") -> - | G75: =IF(F75=1,"Pass"," ")
A77: =IF(E77>0,"OK"," ") | B77: Credit 4.1c: Environmental Management | E77: =IF(SUM(D78:D80)>0,1,0) -> 0 | G77: =IF(F77=1,"Pass"," ")
A78: - | B78: The suppliers of 70% of our steel purchases have ASI or SSC RPP certification | C78: =IF(A78="Yes","You appear to met the criteria for a pass - please provide evidence of supplier certifications and % purchases from those suppliers compared to total",IF(A78="No","Refer below","-")) -> - | D78: =IF(A78="Yes",1,"-") -> - | G78: =IF(F78=1,"Pass"," ")
B79: OR | D79: =IF(A79="Yes",1,"-") -> - | G79: =IF(F79=1,"Pass"," ")
A80: - | B80: Manufacturers of 70% of our steel supplies are accredited to ISO14001 | C80: =IF(A80="Yes","You appear to met the criteria for a pass - please provide evidence of supplier certifications and % purchases from those suppliers compared to total",IF(A80="No","If 'no' to both options for Credit 4.1c - Non Compliant - refer to Audit Guide","-")) -> - | D80: =IF(A80="Yes",1,"-") -> - | G80: =IF(F80=1,"Pass"," ")
A82: =IF(E82>0,"OK"," ") | B82: Credit 4.1d: Water Use Reduction | E82: =IF(SUM(D83:D87)>0,1,0) -> 0 | G82: =IF(F82=1,"Pass"," ")
A83: - | B83: =B78 -> The suppliers of 70% of our steel purchases have ASI or SSC RPP certification | C83: =IF(A83="Yes","You appear to met the criteria for a pass - please provide evidence of supplier certifications and % purchases from those suppliers compared to total",IF(A83="No","Refer below","-")) -> - | D83: =IF(A83="Yes",1,"-") -> - | G83: =IF(F83=1,"Pass"," ")
B84: OR | D84: =IF(A84="Yes",1,"-") -> - | G84: =IF(F84=1,"Pass"," ")
A85: - | B85: Manufacturers of 70% of our steel supplies have been reducing water use over 5 years | C85: =IF(A85="Yes","You appear to met the criteria for a pass - please provide evidence of supplier water use reductions and % purchases from those suppliers compared to total",IF(A85="No","Refer below","-")) -> - | D85: =IF(A85="Yes",1,"-") -> - | G85: =IF(F85=1,"Pass"," ")
B86: OR | D86: =IF(A86="Yes",1,"-") -> - | G86: =IF(F86=1,"Pass"," ")
A87: - | B87: Manufacturer has provided evidence of initiatives to recycle and or reuse of water | C87: =IF(A87="Yes","You appear to met the criteria for a pass - please provide evidence of supplier certifications and % purchases from those suppliers compared to total",IF(A87="No","If 'no' to all options for Credit 4.1d - Non Compliant - refer to Audit Guide","-")) -> - | D87: =IF(A87="Yes",1,"-") -> - | G87: =IF(F87=1,"Pass"," ")
A89: =IF(E89>0,"OK"," ") | B89: Credit 4.1e: Responsible Sourcing | E89: =IF(SUM(D90:D96)>0,1,0) -> 0 | G89: =IF(F89=1,"Pass"," ")
A90: - | B90: We have Toitu Gold or Diamond certification | C90: =IF(A90="Yes","Congratulations you have everything required to pass Credit 4.1e - you will need a copy of your certification as evidence",IF(A10="No","Refer below","-")) -> - | D90: =IF(A90="Yes",1,"-") -> - | G90: =IF(F90=1,"Pass"," ")
B91: OR | D91: =IF(A91="Yes",1,"-") -> - | G91: =IF(F91=1,"Pass"," ")
A92: - | B92: Steel Manufacturer is certified to the Responsible Steel standard | C92: =IF(A92="Yes","Congratulations you have everything required to pass Credit 4.1e - you will need a copy of your certification as evidence",IF(A10="No","Refer below","-")) -> - | D92: =IF(A92="Yes",1,"-") -> - | G92: =IF(F92=1,"Pass"," ")
B93: OR | D93: =IF(A93="Yes",1,"-") -> - | G93: =IF(F93=1,"Pass"," ")
A94: - | B94: Steel manufacturer has Eco Choice Aotearoa certification | C94: =IF(A94="Yes","Congratulations you have everything required to pass Credit 4.1e - you will need a copy of your certification as evidence",IF(A10="No","Refer below","-")) -> - | D94: =IF(A94="Yes",1,"-") -> - | G94: =IF(F94=1,"Pass"," ")
B95: OR | D95: =IF(A95="Yes",1,"-") -> - | G95: =IF(F95=1,"Pass"," ")
A96: - | B96: Manufacturer meets 3.4 + has an in-house Responsible Sourcing Policy + meets 1.1 | C96: =IF(A96="Yes","You appear to met the criteria for a pass - please provide evidence of supplier certifications and % purchases from those suppliers compared to total",IF(A96="No","If 'no' to all options for Credit 4.1e - Non Compliant - refer to Audit Guide","-")) -> - | D96: =IF(A96="Yes",1,"-") -> - | G96: =IF(F96=1,"Pass"," ")
G97: =IF(F97=1,"Pass"," ")
G98: =IF(F98=1,"Pass"," ")
F99: =SUM(F9:F63) -> 0
A100: © 2025 NZ Sustainable Steel Council

Sheet RPP Level 2a
A1: ='RPP Level 1'!A1 -> Responsible Products SELF ASSESSMENT Checklist | C1: Level 2a (RPV 14)
A2: =Dashboard!A2 -> Version 20260617
A3: ='RPP Level 1'!A3 -> Please note - This is a self assessment to use in preparing your audit submission - it is NOT the audit - ensure you read and understand the relevant credit criteria in the Audit Guide
A4: ='RPP Level 1'!A4 -> Use the '+' and '-' signs at the left side of the sheet to open or close the credit - THEN - Select your status using the dropdown menue in the applicable box at Column A - THEN - Read and action any advice
A5: ='RPP Level 1'!A5 -> To keep yourself focussed and avoid and visual clutter - we suggest you work on one credit at a time.
A7: ='RPP Level 1'!A7 -> Select your Status | B7: Credits | C7: Commentary
A9: =IF(SUM(D10:D12)>0,"OK"," ") | B9: Credit 1.1: Business Integrity | F9: =IF(A9="OK",1,0) -> 0 | G9: =IF(F9=1,"Pass"," ")
A10: - | B10: We have current ISO 9001 accreditation | C10: =IF(A10="Yes","Congratulations you have everything required to pass Credit 1.1 - you will need a copy of your certification as evidence",IF(A10="No","Refer below","-")) -> - | D10: =IF(A10="Yes",1,"-") -> - | G10: =IF(F10=1,"Pass"," ")
A11: q | B11: OR | C11: q | D11: =IF(A11="Yes",1,"-") -> - | G11: =IF(F11=1,"Pass"," ")
A12: - | B12: We have a formalised written Code of Conduct addressing the required policies | C12: =IF(A12="Yes","To pass Credit 1.1 please provide evidence that your Code of Conduct contains the required policies and staff are trained - see Audit Guide",IF(A12="No","If no ISO9001 or Written Code - Not Compliant - develop required policies - See Audit Guide for Credit 1.1 criteria","-")) -> - | D12: =IF(A12="Yes",1,"-") -> - | G12: =IF(F12=1,"Pass"," ")
G13: =IF(F13=1,"Pass"," ")
D14: =IF(A14="Yes",1,"-") -> - | G14: =IF(F14=1,"Pass"," ")
A15: =IF(SUM(D16:D20)>0,"OK"," ") | B15: Credit 1.2a: Business Governance | F15: =IF(A15="OK",1,0) -> 0 | G15: =IF(F15=1,"Pass"," ")
A16: - | B16: =B10 -> We have current ISO 9001 accreditation | C16: =IF(A16="Yes","Congratulations you have everything required to pass Credit 1.2a - you will need a copy of your certification as evidence",IF(A16="No","Refer below","-")) -> - | D16: =IF(A16="Yes",1,"-") -> - | G16: =IF(F16=1,"Pass"," ")
B17: OR | D17: =IF(A17="Yes",1,"-") -> - | G17: =IF(F17=1,"Pass"," ")
A18: - | B18: We have a written Business Management System (BMS) | C18: =IF(A18="Yes","To pass Credit 1.2a please provide evidence that your BMS contains the required policies and staff are trained - see Audit Guide Credit 1.2a",IF(A18="No","If no ISO9001 or BMS - Not Compliant - develop required policies - See Audit Guide","-")) -> - | D18: =IF(A18="Yes",1,"-") -> - | G18: =IF(F18=1,"Pass"," ")
B19: Not required if ISO9001 held as it sits within the standard | D19: =IF(A19="Yes",1,"-") -> - | G19: =IF(F19=1,"Pass"," ")
D20: =IF(A20="Yes",1,"-") -> - | G20: =IF(F20=1,"Pass"," ")
G21: =IF(F21=1,"Pass"," ")
A22: =IF(SUM(D21:D30)>0,"OK"," ") | B22: Credit 1.2b: Safety Management System | F22: =IF(A22="OK",1,0) -> 0 | G22: =IF(F22=1,"Pass"," ")
A23: - | B23: We have current ISO 45001:2018 accreditation | C23: =IF(A23="Yes","Congratulations you have everything required to pass Credit 1.2b - provide a copy of your certification as evidence",IF(A23="No","Refer below","-")) -> - | D23: =IF(A23="Yes",1,"-") -> - | G23: =IF(F23=1,"Pass"," ")
B24: OR | D24: =IF(A24="Yes",1,"-") -> - | G24: =IF(F24=1,"Pass"," ")
A25: - | B25: We have current 'Site Wise' or 'Tōtika' Accreditation | C25: =IF(A25="Yes","Congratulations you have everything required to pass Credit 1.2b - provide a copy of your certification as evidence",IF(A25="No","Refer below","-")) -> - | D25: =IF(A25="Yes",1,"-") -> - | G25: =IF(F25=1,"Pass"," ")
B26: OR | D26: =IF(A26="Yes",1,"-") -> - | G26: =IF(F26=1,"Pass"," ")
A27: - | B27: We are a member of the ACC Accredited Employer's Programme | C27: =IF(A27="Yes","Congratulations you have everything required to pass Credit 1.2b - provide a copy of your certification as evidence",IF(A27="no","Refer below","-")) -> - | D27: =IF(A27="Yes",1,"-") -> - | G27: =IF(F27=1,"Pass"," ")
B28: OR | D28: =IF(A28="Yes",1,"-") -> - | G28: =IF(F28=1,"Pass"," ")
A29: - | B29: We have a comprehensive documented in-house H&S management system | C29: =IF(A29="Yes","Please provide evidence that your H&S system contains the required policies and staff are trained - see Audit Guide",IF(A29="No","If no documented policy or none of the above -Not Compliant - develop required policies - See Audit Guide for Credit 1.2b criteria","-")) -> - | D29: =IF(A29="Yes",1,"-") -> - | G29: =IF(F29=1,"Pass"," ")
D30: =IF(A30="Yes",1,"-") -> - | G30: =IF(F30=1,"Pass"," ")
D31: =IF(A31="Yes",1,"-") -> - | G31: =IF(F31=1,"Pass"," ")
A32: =IF(SUM(D33)>0,"OK"," ") | B32: Credit 1.3: Stakeholder Engagement | F32: =IF(A32="OK",1,0) -> 0 | G32: =IF(F32=1,"Pass"," ")
A33: - | B33: We have a stakeholder communication plan that meets the audit criteria | C33: =IF(A33="Yes","You appear to meet the criteria for pass - please provide evidence of compliance with the requirements - See Audit Guide",IF(A33="No","Not compliant - develop required policy and processes - See audit Guide for Credit 1.3 criteria","-")) -> - | D33: =IF(A33="Yes",1,"-") -> - | G33: =IF(F33=1,"Pass"," ")
D34: =IF(A34="Yes",1,"-") -> - | G34: =IF(F34=1,"Pass"," ")
G35: =IF(F35=1,"Pass"," ")
A36: =IF(SUM(D37:D43)>0,"OK","") | B36: Credit 2.1: Environmental Management System | D36: =(IF(SUM(D37:D43)>0,1," ")) | F36: =IF(A36="OK",1,0) -> 0 | G36: =IF(F36=1,"Pass"," ")
A37: - | B37: We have current ISO14001:2016 accreditation | C37: =IF(A37="Yes","Congratulations you have everything required to pass Credit 2.1 - provide a copy of your certification as evidence",IF(A37="No","Refer below","")) | D37: =IF(A37="Yes",1,"-") -> - | G37: =IF(F37=1,"Pass"," ")
B38: OR | D38: =IF(A38="Yes",1,"-") -> - | G38: =IF(F38=1,"Pass"," ")
A39: - | B39: We are certified to BS7750 or EMAS, or EPA Environmental Mgnmt Guidelines | C39: =IF(A39="Yes","Congratulations you have everything required to pass Credit 2.1 - provide a copy of your certification as evidence",IF(A39="No","Refer below","")) | D39: =IF(A39="Yes",1,"-") -> - | G39: =IF(F39=1,"Pass"," ")
B40: OR | D40: =IF(A40="Yes",1,"-") -> - | G40: =IF(F40=1,"Pass"," ")
A41: - | B41: We have Toitu Gold or Diamond Certification | C41: =IF(A41="Yes","Congratulations you have everything required to pass Credit 2.1 - provide a copy of your certification as evidence",IF(A41="No","Refer below","")) | D41: =IF(A41="Yes",1,"-") -> - | G41: =IF(F41=1,"Pass"," ")
B42: OR | D42: =IF(A42="Yes",1,"-") -> - | G42: =IF(F42=1,"Pass"," ")
A43: - | B43: We have a documented in-house Environmental Management System (EMS) | C43: =IF(A43="Yes","Please provide evidence that your Environmental Management system contains the required policies and staff are trained - see Audit Guide",IF(A43="No","If none of the above, and no documented EMS, or the EMS doesn't meet the standard - Not Compliant - develop required policies - See Audit Guide","")) | D43: =IF(A43="Yes",1,"-") -> - | G43: =IF(F43=1,"Pass"," ")
G44: =IF(F44=1,"Pass"," ")
G45: =IF(F45=1,"Pass"," ")
A46: =IF(D46>0,"OK"," ") | B46: Credit 2.2: Environmental Products Declaration (EPD) | D46: =IF(SUM(D48:D56)>0,1,0) -> 0 | F46: =IF(A46="OK",1,0) -> 0 | G46: =IF(F46=1,"Pass"," ")
B47: To be accepted, Credit 2.2 evidence must apply to minimum of 70% of total steel purchases | G47: =IF(F47=1,"Pass"," ")
A48: - | B48: Our steel suppliers have Level 3 or Level 2b (ASI or SSC RPP) certification | C48: =IF(A48="Yes","You appear to met the criteria for a pass - please provide evidence of supplier certifications and % purchases from those suppliers compared to total",IF(A48="No","Refer below","-")) -> - | D48: =IF(A48="Yes",1,0) -> 0 | G48: =IF(F48=1,"Pass"," ")
B49: OR | G49: =IF(F49=1,"Pass"," ")
A50: - | B50: We can produce EN 15804 compliant EPDs for our steel purchases | C50: =IF(A50="Yes","You appear to met the criteria for a pass - please provide evidence of % purchases from those suppliers compared to total",IF(A50="No","Refer below","-")) -> - | D50: =IF(A50="Yes",1,0) -> 0 | G50: =IF(F50=1,"Pass"," ")
B51: OR | G51: =IF(F51=1,"Pass"," ")
A52: - | B52: The suppliers of our steel hold EPA Responsible Poducts Certification | C52: =IF(A52="Yes","You appear to met the criteria for a pass - please provide evidence of supplier certifications and % purchases from those suppliers compared to total",IF(A52="No","Refer below","-")) -> - | D52: =IF(A52="Yes",1,0) -> 0 | G52: =IF(F52=1,"Pass"," ")
B53: OR | G53: =IF(F53=1,"Pass"," ")
A54: - | B54: Steel with EPD via downstream supplier that contributes less than 10% increase | C54: =IF(A54="Yes","You appear to met the criteria for a pass - please provide evidence of the suppliers additional CO2 contribution",IF(A54="No","If 'no' and all other criteria for Credit 2.2 not met - Non compliant"," ")) | D54: =IF(A54="Yes",1,0) -> 0 | G54: =IF(F54=1,"Pass"," ")
B55: OR | G55: =IF(F55=1,"Pass"," ")
A56: - | B56: Embodied CO2 in our steel is 3rd party verified to EN15804 or equivilent | C56: =IF(A56="Yes","You appear to met the criteria for a pass - please provide evidence of 3rd party verification",IF(A56="No","If 'no' and no other criteria for Credit 2.2 achieved - Non compliant - refer to Audit Guide"," ")) | D56: =IF(A56="Yes",1,0) -> 0 | G56: =IF(F56=1,"Pass"," ")
G57: =IF(F57=1,"Pass"," ")
G58: =IF(F58=1,"Pass"," ")
A59: =IF(A60="Yes","OK"," ") | B59: Credit 2.3: Health Impacts Declaration | F59: =IF(A59="OK",1,0) -> 0 | G59: =IF(F59=1,"Pass"," ")
A60: - | B60: We are compliant with the requirements for Credit 2.3 as per the Audit Guide | C60: =IF(A60="Yes","You appear to meet the criteria for pass - please provide evidence of compliance with the requirements - See Audit Guide",IF(A60="No","Not compliant - develop required policy and or processes - See audit Guide for Credit 2.3 criteria","-")) -> - | G60: =IF(F60=1,"Pass"," ")
G61: =IF(F61=1,"Pass"," ")
G62: =IF(F62=1,"Pass"," ")
A63: =IF(E63>0,"OK","") | B63: Credit 3.1: Paints and Coatings | E63: =SUM(D64:D66) -> 0 | F63: =IF(A63="OK",1,0) -> 0 | G63: =IF(F63=1,"Pass"," ")
A64: - | B64: We do not apply paints and coatings either on our sites or customer sites | C64: =IF(A64="Yes","Please complete the 'Mandatory Letter of Assurance' template provided in the Audit Portal",IF(A64="No","Refer below"," ")) | D64: =IF(A64="Yes",1,0) -> 0 | G64: =IF(F64=1,"Pass"," ")
B65: OR | G65: =IF(F65=1,"Pass"," ")
A66: - | B66: We apply paints and coatings and meet requirements for Credit 3.1 | C66: =IF(A66="Yes","You appear to meet requirements for 3.1 - please confirm with evidence demonstating compliance with Audit Guide Credit 3.1 requirements", IF(A66="No","If you do not meet either requirements in this section - Non Compliant", " ")) | D66: =IF(A66="Yes",1,0) -> 0 | G66: =IF(F66=1,"Pass"," ")
G67: =IF(F67=1,"Pass"," ")
G68: =IF(F68=1,"Pass"," ")
A69: =IF(SUM(D70:D77)>0,"OK"," ") | B69: Credit 3.2: Manufacturing OH&S Management | F69: =IF(A69="OK",1,0) -> 0 | G69: =IF(F69=1,"Pass"," ")
A70: - | B70: We have current ISO 45001:2018 accreditation | C70: =IF(A70="Yes","Congratulations you have everything required to pass Credit 1.2b - provide a copy of your certification as evidence",IF(A70="No","Refer below","-")) -> - | D70: =IF(A70="Yes",1,"-") -> - | G70: =IF(F70=1,"Pass"," ")
B71: OR | D71: =IF(A71="Yes",1,"-") -> - | G71: =IF(F71=1,"Pass"," ")
A72: - | B72: We have current 'Site Wise' Accreditation | C72: =IF(A72="Yes","Congratulations you have everything required to pass Credit 1.2b - provide a copy of your certification as evidence",IF(A72="No","Refer below","-")) -> - | D72: =IF(A72="Yes",1,"-") -> - | G72: =IF(F72=1,"Pass"," ")
B73: OR | D73: =IF(A73="Yes",1,"-") -> - | G73: =IF(F73=1,"Pass"," ")
A74: - | B74: We are a member of the ACC Accredited Employer's Programme | C74: =IF(A74="Yes","Congratulations you have everything required to pass Credit 1.2b - provide a copy of your certification as evidence",IF(A74="No","Refer below","-")) -> - | D74: =IF(A74="Yes",1,"-") -> - | G74: =IF(F74=1,"Pass"," ")
B75: OR | D75: =IF(A75="Yes",1,"-") -> - | G75: =IF(F75=1,"Pass"," ")
A76: - | B76: We have a comprehensive documented in-house H&S management system | C76: =IF(A76="Yes","Please provide evidence that your H&S system contains the required policies and staff are trained - see Audit Guide",IF(A76="No","If no documented policy or none of the above -Not Compliant - develop required policies - See Audit Guide for Credit 3.2 criteria","-")) -> - | D76: =IF(A76="Yes",1,"-") -> - | G76: =IF(F76=1,"Pass"," ")
D77: =IF(A77="Yes",1,"-") -> - | G77: =IF(F77=1,"Pass"," ")
G78: =IF(F78=1,"Pass"," ")
A79: =IF(A80="Yes","OK"," ") | B79: Credit 3.3: Procurement OH&S Assessment | F79: =IF(A79="OK",1,0) -> 0 | G79: =IF(F79=1,"Pass"," ")
A80: - | B80: Procurement policies consider supplier safety management and life cycle phases | C80: =IF(A80="Yes","Please provide evidence that the required policy is documented and active - see Audit Guide",IF(A80="No","If no documented policy - Not Compliant - develop required policy - See Audit Guide for Credit 3.3 requirements","-")) -> - | G80: =IF(F80=1,"Pass"," ")
G81: =IF(F81=1,"Pass"," ")
G82: =IF(F82=1,"Pass"," ")
A83: =IF(D83=2,"OK"," ") | B83: Credit 3.4: Modern Slavery | D83: {=IF(SUM(D84:D94>0),1,0)} -> 0 | F83: =IF(A83="OK",1,0) -> 0 | G83: =IF(F83=1,"Pass"," ")
A84: - | B84: 70% of steel is sourced from suppliers with Level 3 or 2b (ASI or SSC RPP) certification | C84: =IF(A84="Yes","It appears that you meet criteria 1 of Credit 3.4 - Plese provide copies of supplier certifications",IF(A84="No","Non compliant - see criteria at Audit Guide Credit 3.4"," ")) | D84: =IF(A84="Yes",1,0) -> 0 | G84: =IF(F84=1,"Pass"," ")
B85: OR
A86: - | B86: 70% of steel is purchased from Responsible Steel -TM certified mills | C86: =IF(A86="Yes","It appears that you meet criteria 1 of Credit 3.4 - Plese provide copies of supplier certifications",IF(A86="No","Non compliant - see criteria at Audit Guide Credit 3.4"," ")) | D86: =IF(A86="Yes",1,0) -> 0
B87: OR
A88: - | B88: 70% of steel is sourced from EcoChoice Aotearoa silver or higher certified mills | C88: =IF(A88="Yes","It appears that you meet criteria 1 of Credit 3.4 - Plese provide copies of supplier certifications",IF(A88="No","Non compliant - see criteria at Audit Guide Credit 3.4"," ")) | D88: =IF(A88="Yes",1,0) -> 0
B89: OR
A90: - | B90: 70% of steel is purchased from a combination of the above | C90: =IF(A90="Yes","It appears that you meet criteria 1 of Credit 3.4 - Plese provide copies of supplier certifications",IF(A90="No","Non compliant - see criteria at Audit Guide Credit 3.4"," ")) | D90: =IF(A90="Yes",1,0) -> 0
B91: OR
A92: - | B92: 90% of supplies: Risk assesment done and documentation displayed on website | C92: =IF(A92="Yes","It appears that you meet criteria 1 of Credit 3.4 - Plese provide copies of supplier certifications",IF(A92="No","Non compliant - see criteria at Audit Guide Credit 3.4"," ")) | D92: =IF(A92="Yes",1,0) -> 0
B93: OR | G93: =IF(F93=1,"Pass"," ")
A94: - | B94: 90% of supplies: Risk assesment done and documentation displayed on website | C94: =IF(A94="Yes","It appears that you meet criteria 2 of Credit 3.4 - Plese provide evidence of compliance with Credit 3.4",IF(A94="No","Non compliant - see criteria at Audit Guide Credit 3.4"," ")) | D94: =IF(A94="Yes",1,0) -> 0 | G94: =IF(F94=1,"Pass"," ")
G95: =IF(F95=1,"Pass"," ")
G96: =IF(F96=1,"Pass"," ")
A97: =IF(D98=1,"OK",IF(SUM(E101:E129)=5,"OK"," ")) | B97: Credit 4.1: Steel Supply Sourcing | F97: =IF(A97="OK",1,0) -> 0 | G97: =IF(F97=1,"Pass"," ")
A98: - | B98: This is our 1st RPP audit and we invoke the 12 month grace period for Credit 4.1 | C98: =IF(A98="Yes","To enact the grace period you need to show evidence that you have reached out to your steel suppliers for the required evidence on the prescribed form",IF(A98="No","Refer below if grace period not invoked and respond to: 4.1a/4.1b/4.1c/4.1d","-")) -> - | D98: =IF(A98="Yes",1," ") | G98: =IF(F98=1,"Pass"," ")
B99: If you are invoking the grace period, you do not need to respond to any other part of 4.1 | D99: =IF(A102="Yes",1,"-") -> - | G99: =IF(F99=1,"Pass"," ")
G100: =IF(F100=1,"Pass"," ")
A101: =IF(E101>0,"OK"," ") | B101: Credit 4.1a Environmental Product Declaration (EPD) | C101: See the Credit 4.1 Compliance Checklist Tool to assist in evaluating mills under credits 4.1a to 4.1e | E101: =IF(SUM(D102:D106)>0,1,0) -> 0 | G101: =IF(F101=1,"Pass"," ")
A102: - | B102: The suppliers of 70% of our steel purchases have ASI or SSC RPP certification | C102: =IF(A102="Yes","You appear to met the criteria for a pass - please provide evidence of supplier certifications and % purchases from those suppliers compared to total",IF(A102="No","Refer below","-")) -> - | D102: =IF(A102="Yes",1,"-") -> - | G102: =IF(F102=1,"Pass"," ")
...

Sheet RPP Level 3
A1: ='RPP Level 1'!A1 -> Responsible Products SELF ASSESSMENT Checklist | C1: Level 3 (RPV 18)
A2: =Dashboard!A2 -> Version 20260617
A3: ='RPP Level 1'!A3 -> Please note - This is a self assessment to use in preparing your audit submission - it is NOT the audit - ensure you read and understand the relevant credit criteria in the Audit Guide
A4: ='RPP Level 1'!A4 -> Use the '+' and '-' signs at the left side of the sheet to open or close the credit - THEN - Select your status using the dropdown menue in the applicable box at Column A - THEN - Read and action any advice
A5: ='RPP Level 1'!A5 -> To keep yourself focussed and avoid and visual clutter - we suggest you work on one credit at a time.
A7: ='RPP Level 1'!A7 -> Select your Status | B7: Credits | C7: Commentary
A9: =IF(SUM(D10:D12)>0,"OK"," ") | B9: Credit 1.1: Business Integrity | F9: =IF(A9="OK",1,0) -> 0 | G9: =IF(F9=1,"Pass"," ")
A10: - | B10: We have current ISO 9001 accreditation | C10: =IF(A10="Yes","Congratulations you have everything required to pass Credit 1.1 - you will need a copy of your certification as evidence",IF(A10="No","Refer below","-")) -> - | D10: =IF(A10="Yes",1,"-") -> - | G10: =IF(F10=1,"Pass"," ")
A11: q | B11: OR | C11: q | D11: =IF(A11="Yes",1,"-") -> - | G11: =IF(F11=1,"Pass"," ")
A12: - | B12: We have a formalised written Code of Conduct addressing the required policies | C12: =IF(A12="Yes","To pass Credit 1.1 please provide evidence that your Code of Conduct contains the required policies and staff are trained - see Audit Guide",IF(A12="No","If no ISO9001 or Written Code - Not Compliant - develop required policies - See Audit Guide for Credit 1.1 criteria","-")) -> - | D12: =IF(A12="Yes",1,"-") -> - | G12: =IF(F12=1,"Pass"," ")
G13: =IF(F13=1,"Pass"," ")
D14: =IF(A14="Yes",1,"-") -> - | G14: =IF(F14=1,"Pass"," ")
A15: =IF(SUM(D16:D30)>0,"OK"," ") | B15: Credit 1.2a: Business Governance | F15: =IF(A15="OK",1,0) -> 0 | G15: =IF(F15=1,"Pass"," ")
A16: - | B16: =B10 -> We have current ISO 9001 accreditation | C16: =IF(A16="Yes","Congratulations you have everything required to pass Credit 1.2a - you will need a copy of your certification as evidence",IF(A16="No","Refer below","-")) -> - | D16: =IF(A16="Yes",1,"-") -> - | G16: =IF(F16=1,"Pass"," ")
B17: OR | D17: =IF(A17="Yes",1,"-") -> - | G17: =IF(F17=1,"Pass"," ")
A18: - | B18: We have a written Business Management System (BMS) | C18: =IF(A18="Yes","To pass Credit 1.2a please provide evidence that your BMS contains the required policies and staff are trained - see Audit Guide Credit 1.2a",IF(A18="No","If no ISO9001 or BMS - Not Compliant - develop required policies - See Audit Guide","-")) -> - | D18: =IF(A18="Yes",1,"-") -> - | G18: =IF(F18=1,"Pass"," ")
B19: Not required if ISO9001 held as it sits within the standard | D19: =IF(A19="Yes",1,"-") -> - | G19: =IF(F19=1,"Pass"," ")
D20: =IF(A20="Yes",1,"-") -> - | G20: =IF(F20=1,"Pass"," ")
G21: =IF(F21=1,"Pass"," ")
A22: =IF(SUM(D22:D30)>0,"OK"," ") | B22: Credit 1.2b: Safety Management System | F22: =IF(A22="OK",1,0) -> 0 | G22: =IF(F22=1,"Pass"," ")
A23: - | B23: We have current ISO 45001:2018 accreditation | C23: =IF(A23="Yes","Congratulations you have everything required to pass Credit 1.2b - provide a copy of your certification as evidence",IF(A23="No","Refer below","-")) -> - | D23: =IF(A23="Yes",1,"-") -> - | G23: =IF(F23=1,"Pass"," ")
B24: OR | D24: =IF(A24="Yes",1,"-") -> - | G24: =IF(F24=1,"Pass"," ")
A25: - | B25: We have current 'Site Wise' or 'Tōtika' Accreditation | C25: =IF(A25="Yes","Congratulations you have everything required to pass Credit 1.2b - provide a copy of your certification as evidence",IF(A25="No","Refer below","-")) -> - | D25: =IF(A25="Yes",1,"-") -> - | G25: =IF(F25=1,"Pass"," ")
B26: OR | D26: =IF(A26="Yes",1,"-") -> - | G26: =IF(F26=1,"Pass"," ")
A27: - | B27: We are a member of the ACC Accredited Employer's Programme | C27: =IF(A27="Yes","Congratulations you have everything required to pass Credit 1.2b - provide a copy of your certification as evidence",IF(A27="no","Refer below","-")) -> - | D27: =IF(A27="Yes",1,"-") -> - | G27: =IF(F27=1,"Pass"," ")
B28: OR | D28: =IF(A28="Yes",1,"-") -> - | G28: =IF(F28=1,"Pass"," ")
A29: - | B29: We have a comprehensive documented in-house H&S management system | C29: =IF(A29="Yes","Please provide evidence that your H&S system contains the required policies and staff are trained - see Audit Guide",IF(A29="No","If no documented policy or none of the above -Not Compliant - develop required policies - See Audit Guide for Credit 1.2b criteria","-")) -> - | D29: =IF(A29="Yes",1,"-") -> - | G29: =IF(F29=1,"Pass"," ")
D30: =IF(A30="Yes",1,"-") -> - | G30: =IF(F30=1,"Pass"," ")
D31: =IF(A31="Yes",1,"-") -> - | G31: =IF(F31=1,"Pass"," ")
A32: =IF(SUM(D33)>0,"OK"," ") | B32: Credit 1.3: Stakeholder Engagement | F32: =IF(A32="OK",1,0) -> 0 | G32: =IF(F32=1,"Pass"," ")
A33: - | B33: We have a stakeholder communication plan that meets the audit criteria | C33: =IF(A33="Yes","You appear to meet the criteria for pass - please provide evidence of compliance with the requirements - See Audit Guide",IF(A33="No","Not compliant - develop required policy and processes - See audit Guide for Credit 1.3 criteria","-")) -> - | D33: =IF(A33="Yes",1,"-") -> - | G33: =IF(F33=1,"Pass"," ")
D34: =IF(A34="Yes",1,"-") -> - | G34: =IF(F34=1,"Pass"," ")
G35: =IF(F35=1,"Pass"," ")
A36: =IF(SUM(D37:D43)>0,"OK","") | B36: Credit 2.1: Environmental Management System | D36: =(IF(SUM(D37:D43)>0,1," ")) | F36: =IF(A36="OK",1,0) -> 0 | G36: =IF(F36=1,"Pass"," ")
A37: - | B37: We have current ISO14001:2016 accreditation | C37: =IF(A37="Yes","Congratulations you have everything required to pass Credit 2.1 - provide a copy of your certification as evidence",IF(A37="No","Refer below","")) | D37: =IF(A37="Yes",1,"-") -> - | G37: =IF(F37=1,"Pass"," ")
B38: OR | D38: =IF(A38="Yes",1,"-") -> - | G38: =IF(F38=1,"Pass"," ")
A39: - | B39: We are certified to BS7750 or EMAS, or EPA Environmental Mgnmt Guidelines | C39: =IF(A39="Yes","Congratulations you have everything required to pass Credit 2.1 - provide a copy of your certification as evidence",IF(A39="No","Refer below","")) | D39: =IF(A39="Yes",1,"-") -> - | G39: =IF(F39=1,"Pass"," ")
B40: OR | D40: =IF(A40="Yes",1,"-") -> - | G40: =IF(F40=1,"Pass"," ")
A41: - | B41: We have Toitu Gold or Diamond Certification | C41: =IF(A41="Yes","Congratulations you have everything required to pass Credit 2.1 - provide a copy of your certification as evidence",IF(A41="No","Refer below","")) | D41: =IF(A41="Yes",1,"-") -> - | G41: =IF(F41=1,"Pass"," ")
B42: OR | D42: =IF(A42="Yes",1,"-") -> - | G42: =IF(F42=1,"Pass"," ")
A43: - | B43: We have a documented in-house Environmental Management System (EMS) | C43: =IF(A43="Yes","Please provide evidence that your Environmental Management system contains the required policies and staff are trained - see Audit Guide",IF(A43="No","If none of the above, and no documented EMS, or the EMS doesn't meet the standard - Not Compliant - develop required policies - See Audit Guide","")) | D43: =IF(A43="Yes",1,"-") -> - | G43: =IF(F43=1,"Pass"," ")
G44: =IF(F44=1,"Pass"," ")
G45: =IF(F45=1,"Pass"," ")
A46: =IF(D46>0,"OK"," ") | B46: Credit 2.2: Environmental Products Declaration (EPD) | D46: =IF(SUM(D48:D56)>0,1,0) -> 0 | F46: =IF(A46="OK",1,0) -> 0 | G46: =IF(F46=1,"Pass"," ")
B47: To be accepted, Credit 2.2 evidence must apply to minimum of 70% of total steel purchases | G47: =IF(F47=1,"Pass"," ")
A48: - | B48: Our steel suppliers have Level 3 or Level 2b (ASI or SSC RPP) certification | C48: =IF(A48="Yes","You appear to met the criteria for a pass - please provide evidence of supplier certifications and % purchases from those suppliers compared to total",IF(A48="No","Refer below","-")) -> - | D48: =IF(A48="Yes",1,0) -> 0 | G48: =IF(F48=1,"Pass"," ")
B49: OR | G49: =IF(F49=1,"Pass"," ")
A50: - | B50: We can produce EN 15804 compliant EPDs for our steel purchases | C50: =IF(A50="Yes","You appear to met the criteria for a pass - please provide evidence of % purchases from those suppliers compared to total",IF(A50="No","Refer below","-")) -> - | D50: =IF(A50="Yes",1,0) -> 0 | G50: =IF(F50=1,"Pass"," ")
B51: OR | G51: =IF(F51=1,"Pass"," ")
A52: - | B52: The suppliers of our steel hold EPA Responsible Poducts Certification | C52: =IF(A52="Yes","You appear to met the criteria for a pass - please provide evidence of supplier certifications and % purchases from those suppliers compared to total",IF(A52="No","Refer below","-")) -> - | D52: =IF(A52="Yes",1,0) -> 0 | G52: =IF(F52=1,"Pass"," ")
B53: OR | G53: =IF(F53=1,"Pass"," ")
A54: - | B54: Steel with EPD via downstream supplier that contributes less than 10% increase | C54: =IF(A54="Yes","You appear to met the criteria for a pass - please provide evidence of the suppliers additional CO2 contribution",IF(A54="No","If 'no' and all other criteria for Credit 2.2 not met - Non compliant"," ")) | D54: =IF(A54="Yes",1,0) -> 0 | G54: =IF(F54=1,"Pass"," ")
B55: OR | G55: =IF(F55=1,"Pass"," ")
A56: - | B56: Embodied CO2 in our steel is 3rd party verified to EN15804 or equivilent | C56: =IF(A56="Yes","You appear to met the criteria for a pass - please provide evidence of 3rd party verification",IF(A56="No","If 'no' and no other criteria for Credit 2.2 achieved - Non compliant - refer to Audit Guide"," ")) | D56: =IF(A56="Yes",1,0) -> 0 | G56: =IF(F56=1,"Pass"," ")
G57: =IF(F57=1,"Pass"," ")
G58: =IF(F58=1,"Pass"," ")
A59: =IF(A60="Yes","OK"," ") | B59: Credit 2.3: Health Impacts Declaration | F59: =IF(A59="OK",1,0) -> 0 | G59: =IF(F59=1,"Pass"," ")
A60: - | B60: We are compliant with the requirements for Credit 2.3 as per the Audit Guide | C60: =IF(A60="Yes","You appear to meet the criteria for pass - please provide evidence of compliance with the requirements - See Audit Guide",IF(A60="No","Not compliant - develop required policy and or processes - See audit Guide for Credit 2.3 criteria","-")) -> - | G60: =IF(F60=1,"Pass"," ")
G61: =IF(F61=1,"Pass"," ")
G62: =IF(F62=1,"Pass"," ")
A63: =IF(E63>0,"OK","") | B63: Credit 3.1: Paints and Coatings | E63: =SUM(D64:D66) -> 0 | F63: =IF(A63="OK",1,0) -> 0 | G63: =IF(F63=1,"Pass"," ")
A64: - | B64: We do not apply paints and coatings either on our sites or customer sites | C64: =IF(A64="Yes","Please complete the 'Mandatory Letter of Assurance' template provided in the Audit Portal",IF(A64="No","Refer below"," ")) | D64: =IF(A64="Yes",1,0) -> 0 | G64: =IF(F64=1,"Pass"," ")
B65: OR | G65: =IF(F65=1,"Pass"," ")
A66: - | B66: We apply paints and coatings and meet requirements for Credit 3.1 | C66: =IF(A66="Yes","You appear to meet requirements for 3.1 - please confirm with evidence demonstating compliance with Audit Guide Credit 3.1 requirements", IF(A66="No","If you do not meet either requirements in this section - Non Compliant", " ")) | D66: =IF(A66="Yes",1,0) -> 0 | G66: =IF(F66=1,"Pass"," ")
G67: =IF(F67=1,"Pass"," ")
G68: =IF(F68=1,"Pass"," ")
A69: =IF(SUM(D70:D77)>0,"OK"," ") | B69: Credit 3.2: Manufacturing OH&S Management | F69: =IF(A69="OK",1,0) -> 0 | G69: =IF(F69=1,"Pass"," ")
A70: - | B70: We have current ISO 45001:2018 accreditation | C70: =IF(A70="Yes","Congratulations you have everything required to pass Credit 1.2b - provide a copy of your certification as evidence",IF(A70="No","Refer below","-")) -> - | D70: =IF(A70="Yes",1,"-") -> - | G70: =IF(F70=1,"Pass"," ")
B71: OR | D71: =IF(A71="Yes",1,"-") -> - | G71: =IF(F71=1,"Pass"," ")
A72: - | B72: We have current 'Site Wise' Accreditation | C72: =IF(A72="Yes","Congratulations you have everything required to pass Credit 1.2b - provide a copy of your certification as evidence",IF(A72="No","Refer below","-")) -> - | D72: =IF(A72="Yes",1,"-") -> - | G72: =IF(F72=1,"Pass"," ")
B73: OR | D73: =IF(A73="Yes",1,"-") -> - | G73: =IF(F73=1,"Pass"," ")
A74: - | B74: We are a member of the ACC Accredited Employer's Programme | C74: =IF(A74="Yes","Congratulations you have everything required to pass Credit 1.2b - provide a copy of your certification as evidence",IF(A74="No","Refer below","-")) -> - | D74: =IF(A74="Yes",1,"-") -> - | G74: =IF(F74=1,"Pass"," ")
B75: OR | D75: =IF(A75="Yes",1,"-") -> - | G75: =IF(F75=1,"Pass"," ")
A76: - | B76: We have a comprehensive documented in-house H&S management system | C76: =IF(A76="Yes","Please provide evidence that your H&S system contains the required policies and staff are trained - see Audit Guide",IF(A76="No","If no documented policy or none of the above -Not Compliant - develop required policies - See Audit Guide for Credit 3.2 criteria","-")) -> - | D76: =IF(A76="Yes",1,"-") -> - | G76: =IF(F76=1,"Pass"," ")
D77: =IF(A77="Yes",1,"-") -> - | G77: =IF(F77=1,"Pass"," ")
G78: =IF(F78=1,"Pass"," ")
A79: =IF(A80="Yes","OK"," ") | B79: Credit 3.3: Procurement OH&S Assessment | F79: =IF(A79="OK",1,0) -> 0 | G79: =IF(F79=1,"Pass"," ")
A80: - | B80: Procurement policies consider supplier safety management and life cycle phases | C80: =IF(A80="Yes","Please provide evidence that the required policy is documented and active - see Audit Guide",IF(A80="No","If no documented policy - Not Compliant - develop required policy - See Audit Guide for Credit 3.3 requirements","-")) -> - | G80: =IF(F80=1,"Pass"," ")
G81: =IF(F81=1,"Pass"," ")
G82: =IF(F82=1,"Pass"," ")
A83: =IF(D83=1,"OK"," ") | B83: Credit 3.4: Modern Slavery | D83: =IF(SUM(D84:D92)>0,1,0) -> 0 | F83: =IF(A83="OK",1,0) -> 0 | G83: =IF(F83=1,"Pass"," ")
A84: - | B84: 70% of steel is sourced from suppliers with Level 3 or 2b (ASI or SSC RPP) certification | C84: =IF(A84="Yes","It appears that you meet criteria 1 of Credit 3.4 - Plese provide copies of supplier certifications",IF(A84="No","Non compliant - see criteria at Audit Guide Credit 3.4"," ")) | D84: =IF(A84="Yes",1,0) -> 0 | G84: =IF(F84=1,"Pass"," ")
B85: OR
A86: - | B86: 70% of steel is purchased from Responsible Steel -TM certified mills | C86: =IF(A86="Yes","It appears that you meet criteria 1 of Credit 3.4 - Plese provide copies of supplier certifications",IF(A86="No","Non compliant - see criteria at Audit Guide Credit 3.4"," ")) | D86: =IF(A86="Yes",1,0) -> 0
B87: OR
A88: - | B88: 70% of steel is sourced from EcoChoice Aotearoa silver or higher certified mills | C88: =IF(A88="Yes","It appears that you meet criteria 1 of Credit 3.4 - Plese provide copies of supplier certifications",IF(A88="No","Non compliant - see criteria at Audit Guide Credit 3.4"," ")) | D88: =IF(A88="Yes",1,0) -> 0
B89: OR
A90: - | B90: 70% of steel is purchased from a combination of the above | C90: =IF(A90="Yes","It appears that you meet criteria 1 of Credit 3.4 - Plese provide copies of supplier certifications",IF(A90="No","Non compliant - see criteria at Audit Guide Credit 3.4"," ")) | D90: =IF(A90="Yes",1,0) -> 0
B91: OR | G91: =IF(F91=1,"Pass"," ")
A92: - | B92: 90% of supplies: Risk assesment done and documentation displayed on website | C92: =IF(A92="Yes","It appears that you meet criteria 2 of Credit 3.4 - Plese provide evidence of compliance with Credit 3.4",IF(A92="No","Non compliant - see criteria at Audit Guide Credit 3.4"," ")) | D92: =IF(A92="Yes",1,0) -> 0 | G92: =IF(F92=1,"Pass"," ")
G93: =IF(F93=1,"Pass"," ")
G94: =IF(F94=1,"Pass"," ")
A95: =IF(D96=1,"OK",IF(SUM(E99:E127)=5,"OK"," ")) | B95: Credit 4.1: Steel Supply Sourcing | F95: =IF(A95="OK",1,0) -> 0 | G95: =IF(F95=1,"Pass"," ")
A96: - | B96: This is our 1st RPP audit and we invoke the 12 month grace period for Credit 4.1 | C96: =IF(A96="Yes","To enact the grace period you need to show evidence that you have reached out to your steel suppliers for the required evidence on the prescribed form",IF(A96="No","Refer below if grace period not invoked and respond to: 4.1a/4.1b/4.1c/4.1d","-")) -> - | D96: =IF(A96="Yes",1," ") | G96: =IF(F96=1,"Pass"," ")
B97: If you are invoking the grace period, you do not need to respond to any other part of 4.1 | D97: =IF(A100="Yes",1,"-") -> - | G97: =IF(F97=1,"Pass"," ")
G98: =IF(F98=1,"Pass"," ")
A99: =IF(E99>0,"OK"," ") | B99: Credit 4.1a Environmental Product Declaration (EPD) | C99: See the Credit 4.1 Compliance Checklist Tool to assist in evaluating mills under credits 4.1a to 4.1e | E99: =IF(SUM(D100:D104)>0,1,0) -> 0 | G99: =IF(F99=1,"Pass"," ")
A100: - | B100: The suppliers of 70% of our steel purchases have ASI or SSC RPP certification | C100: =IF(A100="Yes","You appear to met the criteria for a pass - please provide evidence of supplier certifications and % purchases from those suppliers compared to total",IF(A100="No","Refer below","-")) -> - | D100: =IF(A100="Yes",1,"-") -> - | G100: =IF(F100=1,"Pass"," ")
B101: OR | G101: =IF(F101=1,"Pass"," ")
A102: - | B102: We have Environmental Product Declarations (EPD) for 70% of steel purchases | C102: =IF(A102="Yes","Provide evidence of %ge and EPDs compliant with EN15804",IF(A102="No","Refer below","-")) -> - | D102: =IF(A102="Yes",1,"-") -> - | G102: =IF(F102=1,"Pass"," ")
...

Sheet Lists
A2: -
A3: Yes
A4: -
