Workbook

Sheet Dashboard
A1: Responsible Products SELF ASSESSMENT Checklist | F1: © 2025 NZ Sustainable Steel Council
A2: Version 20260617
A3: Please note - This is a self assessment to use in preparing your audit submission - it is NOT the audit - ensure you read and understand the relevant credit criteria in the Audit Guide
D4: Level 1 | E4: Level 2b | F4: Level 2a | G4: Level 3
D5: 7 | E5: 8 | F5: 12 | G5: 14 | H5: Note - these are not RPV points - they are the number of cells with a pass
D8: Responsible Product Certification
B9: Governance | D9: Level 1 | E9: Level 2b (No EPD) | F9: Level 2a (EPD) | G9: Level 3
B10: 1.1 | C10: Business Integrity | D10: ='RPP Level 1'!G9 | E10: ='RPP Level 2b'!G9 | F10: ='RPP Level 2a'!G9 | G10: ='RPP Level 3'!G9
B11: 1.2a | C11: Management Systems: Governance | D11: ='RPP Level 1'!G15 | E11: ='RPP Level 2b'!G15 | F11: ='RPP Level 2a'!G15 | G11: ='RPP Level 3'!G15
B12: 1.2b | C12: Management Systems: Safety Management | D12: ='RPP Level 1'!G22 | E12: ='RPP Level 2b'!G22 | F12: ='RPP Level 2a'!G22 | G12: ='RPP Level 3'!G22
B13: 1.3 | C13: Stakeholder Engagement | D13: ='RPP Level 1'!G32 | E13: ='RPP Level 2b'!G32 | F13: ='RPP Level 2a'!G32 | G13: ='RPP Level 3'!G32
B14: Responsible
B15: 2.1 | C15: Environmental Management System | D15: ='RPP Level 1'!G36 | E15: ='RPP Level 2b'!G36 | F15: ='RPP Level 2a'!G36 | G15: ='RPP Level 3'!G36
B16: 2.2 | C16: Environmental Product Declaration (EPD) | F16: ='RPP Level 2a'!G46 | G16: ='RPP Level 3'!G46
B17: 2.3 | C17: Health Impacts Declaration | G17: ='RPP Level 3'!G59
B18: Healthy
B19: 3.1 | C19: Paints and Coatings | E19: ='RPP Level 2b'!G47 | F19: ='RPP Level 2a'!G63 | G19: ='RPP Level 3'!G63
B20: 3.2 | C20: Manufacturing OH&S Management | D20: ='RPP Level 1'!G47 | E20: ='RPP Level 2b'!G53 | F20: ='RPP Level 2a'!G79 | G20: ='RPP Level 3'!G69
B21: 3.3 | C21: Procurement OH&S Assessment | F21: ='RPP Level 2a'!G79 | G21: ='RPP Level 3'!G79
B22: 3.4 | C22: Modern Slavery | F22: ='RPP Level 2a'!G83 | G22: ='RPP Level 3'!G83
B23: Positive
B24: 4.1 | C24: Steel Supply Sourcing | D24: ='RPP Level 1'!G57 | E24: ='RPP Level 2b'!G63 | F24: ='RPP Level 2a'!G97 | G24: ='RPP Level 3'!G95
B25: 4.2 | C25: Carbon Emissions Reduction (Mfg) | G25: ='RPP Level 3'!G133
B26: Circular
B27: 5.1 | C27: Resource Management | F27: ='RPP Level 2a'!G135 | G27: ='RPP Level 3'!G137
D29: =COUNTIF(D10:D27,"Pass") -> 0 | E29: =COUNTIF(E10:E27,"Pass") -> 0 | F29: =COUNTIF(F10:F27,"Pass") -> 0 | G29: =COUNTIF(G10:G27,"Pass") -> 0
D30: =D4 -> Level 1 | E30: =E4 -> Level 2b | F30: =F4 -> Level 2a | G30: =G4 -> Level 3
C31: Indictive audit outcome based on self assessment | D31: =IF(D29=D5,"Achieved"," ") | E31: =IF(E29=E5,"Achieved"," ") | F31: =IF(F29=F5,"Achieved"," ") | G31: =IF(G29=G5,"Achieved"," ")
C32: RPV | D32: =IF(D31="Achieved",4,"-") -> - | E32: =IF(E31="Achieved",11,"-") -> - | F32: =IF(F31="Achieved",14,"-") -> - | G32: =IF(G31="Achieved",18,"-") -> -
B35: Worksheet Example 1 Contracted
B50: Worksheet Example 2 - Expanded
B65: Worksheet Example 3 - Completed Credits Expanded
B82: Worksheet Example 4 - Completed Credits Contracted

Sheet RPP Level 1
A1: Responsible Products SELF ASSESSMENT Checklist | C1: Level 1 (RPV 4)
A2: =Dashboard!A2 -> Version 20260617
A3: =Dashboard!A3 -> Please note - This is a self assessment to use in preparing your audit submission - it is NOT the audit - ensure you read and understand the relevant credit criteria in the Audit Guide
A4: Use the '+' and '-' signs at the left side of the sheet to open or close the credit - THEN - Select your status using the dropdown menue in the applicable box at Column A - THEN - Read and action any advice
A5: To keep yourself focussed and avoid and visual clutter - we suggest you work on one credit at a time.
F6: Score
A7: Select your Status | B7: Credits | C7: Commentary
A9: =IF(SUM(D10:D12)>0,"OK"," ") | B9: Credit 1.1: Business Integrity | F9: =IF(A9="OK",1,0) -> 0 | G9: =IF(F9>0,"Pass"," ")
A10: - | B10: We have current ISO 9001 accreditation | C10: =IF(A10="Yes","Congratulations you have everything required to pass Credit 1.1 - you will need a copy of your certification as evidence",IF(A10="No","Refer below","-")) -> - | D10: =IF(A10="Yes",1,"-") -> - | G10: =IF(F10>0,"Pass"," ")
A11: q | B11: OR | C11: q | D11: =IF(A11="Yes",1,"-") -> - | G11: =IF(F11>0,"Pass"," ")
A12: - | B12: We have a formalised written Code of Conduct addressing the required policies | C12: =IF(A12="Yes","To pass Credit 1.1 please provide evidence that your Code of Conduct contains the required policies and staff are trained - see Audit Guide",IF(A12="No","If no ISO9001 or Written Code - Not Compliant - develop required policies - See Audit Guide for Credit 1.1 criteria","-")) -> - | D12: =IF(A12="Yes",1,"-") -> - | G12: =IF(F12>0,"Pass"," ")
G13: =IF(F13>0,"Pass"," ")
D14: =IF(A14="Yes",1,"-") -> - | G14: =IF(F14>0,"Pass"," ")
A15: =IF(SUM(D16:D30)>0,"OK"," ") | B15: Credit 1.2a: Business Governance | F15: =IF(A15="OK",1,0) -> 0 | G15: =IF(F15>0,"Pass"," ")
A16: - | B16: =B10 -> We have current ISO 9001 accreditation | C16: =IF(A16="Yes","Congratulations you have everything required to pass Credit 1.2a - you will need a copy of your certification as evidence",IF(A16="No","Refer below","-")) -> - | D16: =IF(A16="Yes",1,"-") -> - | G16: =IF(F16>0,"Pass"," ")
B17: OR | D17: =IF(A17="Yes",1,"-") -> - | G17: =IF(F17>0,"Pass"," ")
A18: - | B18: We have a written Business Management System (BMS) | C18: =IF(A18="Yes","To pass Credit 1.2a please provide evidence that your BMS contains the required policies and staff are trained - see Audit Guide Credit 1.2a",IF(A18="No","If no ISO9001 or BMS - Not Compliant - develop required policies - See Audit Guide","-")) -> - | D18: =IF(A18="Yes",1,"-") -> - | G18: =IF(F18>0,"Pass"," ")
B19: Not required if ISO9001 held as it sits within the standard | D19: =IF(A19="Yes",1,"-") -> - | G19: =IF(F19>0,"Pass"," ")
D20: =IF(A20="Yes",1,"-") -> - | G20: =IF(F20>0,"Pass"," ")
G21: =IF(F21>0,"Pass"," ")
A22: =IF(SUM(D22:D30)>0,"OK"," ") | B22: Credit 1.2b: Safety Management System | F22: =IF(A22="OK",1,0) -> 0 | G22: =IF(F22>0,"Pass"," ")
A23: - | B23: We have current ISO 45001:2018 accreditation | C23: =IF(A23="Yes","Congratulations you have everything required to pass Credit 1.2b - provide a copy of your certification as evidence",IF(A23="No","Refer below","-")) -> - | D23: =IF(A23="Yes",1,"-") -> - | G23: =IF(F23>0,"Pass"," ")
B24: OR | G24: =IF(F24>0,"Pass"," ")
A25: - | B25: We have current 'Site Wise' or 'Tōtika' Accreditation | C25: =IF(A25="Yes","Congratulations you have everything required to pass Credit 1.2b - provide a copy of your certification as evidence",IF(A25="No","Refer below","-")) -> - | D25: =IF(A25="Yes",1,"-") -> - | G25: =IF(F25>0,"Pass"," ")
B26: OR | G26: =IF(F26>0,"Pass"," ")
A27: - | B27: We are a member of the ACC Accredited Employer's Programme | C27: =IF(A27="Yes","Congratulations you have everything required to pass Credit 1.2b - provide a copy of your certification as evidence",IF(A27="no","Refer below","-")) -> - | D27: =IF(A27="Yes",1,"-") -> - | G27: =IF(F27>0,"Pass"," ")
B28: OR | D28: =IF(A28="Yes",1,"-") -> - | G28: =IF(F28>0,"Pass"," ")
A29: - | B29: We have a comprehensive documented in-house H&S management system | C29: =IF(A29="Yes","Please provide evidence that your H&S system contains the required policies and staff are trained - see Audit Guide",IF(A29="No","If no documented policy or none of the above -Not Compliant - develop required policies - See Audit Guide for Credit 1.2b criteria","-")) -> - | D29: =IF(A29="Yes",1,"-") -> - | G29: =IF(F29>0,"Pass"," ")
D30: =IF(A30="Yes",1,"-") -> - | G30: =IF(F30>0,"Pass"," ")
D31: =IF(A31="Yes",1,"-") -> - | G31: =IF(F31>0,"Pass"," ")
A32: =IF(SUM(D33)>0,"OK"," ") | B32: Credit 1.3: Stakeholder Engagement | F32: =IF(A32="OK",1,0) -> 0 | G32: =IF(F32>0,"Pass"," ")
A33: - | B33: We have a stakeholder communication plan that meets the audit criteria | C33: =IF(A33="Yes","You appear to meet the criteria for pass - please provide evidence of compliance with the requirements - See Audit Guide",IF(A33="No","Not compliant - develop required policy and processes - See audit Guide for Credit 1.3 criteria","-")) -> - | D33: =IF(A33="Yes",1,"-") -> - | G33: =IF(F33>0,"Pass"," ")
D34: =IF(A34="Yes",1,"-") -> - | G34: =IF(F34>0,"Pass"," ")
G35: =IF(F35>0,"Pass"," ")
A36: =IF(SUM(D37:D43)>0,"OK","") | B36: Credit 2.1: Environmental Management System | D36: =(IF(SUM(D37:D43)>0,1," ")) | F36: =IF(A36="OK",1,0) -> 0 | G36: =IF(F36>0,"Pass"," ")
A37: - | B37: We have current ISO14001:2016 accreditation | C37: =IF(A37="Yes","Congratulations you have everything required to pass Credit 2.1 - provide a copy of your certification as evidence",IF(A37="No","Refer below","")) | D37: =IF(A37="Yes",1,"-") -> - | G37: =IF(F37>0,"Pass"," ")
B38: OR | D38: =IF(A38="Yes",1,"-") -> - | G38: =IF(F38>0,"Pass"," ")
A39: - | B39: We are certified to BS7750 or EMAS, or EPA Environmental Mgnmt Guidelines | C39: =IF(A39="Yes","Congratulations you have everything required to pass Credit 2.1 - provide a copy of your certification as evidence",IF(A39="No","Refer below","")) | D39: =IF(A39="Yes",1,"-") -> - | G39: =IF(F39>0,"Pass"," ")
B40: OR | D40: =IF(A40="Yes",1,"-") -> - | G40: =IF(F40>0,"Pass"," ")
A41: - | B41: We have Toitu Gold or Diamond Certification | C41: =IF(A41="Yes","Congratulations you have everything required to pass Credit 2.1 - provide a copy of your certification as evidence",IF(A41="No","Refer below","")) | D41: =IF(A41="Yes",1,"-") -> - | G41: =IF(F41>0,"Pass"," ")
...

Sheet RPP Level 2b
A1: ='RPP Level 1'!A1 -> Responsible Products SELF ASSESSMENT Checklist | C1: Level 2b (RPV 11)
A2: =Dashboard!A2 -> Version 20260617
A3: ='RPP Level 1'!A3 -> Please note - This is a self assessment to use in preparing your audit submission - it is NOT the audit - ensure you read and understand the relevant credit criteria in the Audit Guide
A4: ='RPP Level 1'!A4 -> Use the '+' and '-' signs at the left side of the sheet to open or close the credit - THEN - Select your status using the dropdown menue in the applicable box at Column A - THEN - Read and action any advice
A5: ='RPP Level 1'!A5 -> To keep yourself focussed and avoid and visual clutter - we suggest you work on one credit at a time.
A7: ='RPP Level 1'!A7 -> Select your Status | B7: Credits | C7: Commentary
A9: =IF(SUM(D10:D12)>0,"OK"," ") | B9: Credit 1.1: Business Integrity | F9: =IF(A9="OK",1,0) -> 0 | G9: =IF(F9=1,"Pass"," ")
A10: - | B10: We have current ISO 9001 accreditation | C10: =IF(A10="Yes","Congratulations you have everything required to pass Credit 1.1 - you will need a copy of your certification as evidence",IF(A10="No","Refer below","-")) -> - | D10: =IF(A10="Yes",1,"-") -> - | G10: =IF(F10=1,"Pass"," ")
A11: q | B11: OR | C11: q | D11: =IF(A11="Yes",1,"-") -> - | G11: =IF(F11=1,"Pass"," ")
A12: - | B12: We have a formalised written Code of Conduct addressing the required policies | C12: =IF(A12="Yes","To pass Credit 1.1 please provide evidence that your Code of Conduct contains the required policies and staff are trained - see Audit Guide",IF(A12="No","If no ISO9001 or Written Code - Not Compliant - develop required policies - See Audit Guide for Credit 1.1 criteria","-")) -> - | D12: =IF(A12="Yes",1,"-") -> - | G12: =IF(F12=1,"Pass"," ")
G13: =IF(F13=1,"Pass"," ")
D14: =IF(A14="Yes",1,"-") -> - | G14: =IF(F14=1,"Pass"," ")
A15: =IF(SUM(D16:D20)>0,"OK"," ") | B15: Credit 1.2a: Business Governance | F15: =IF(A15="OK",1,0) -> 0 | G15: =IF(F15=1,"Pass"," ")
A16: - | B16: =B10 -> We have current ISO 9001 accreditation | C16: =IF(A16="Yes","Congratulations you have everything required to pass Credit 1.2a - you will need a copy of your certification as evidence",IF(A16="No","Refer below","-")) -> - | D16: =IF(A16="Yes",1,"-") -> - | G16: =IF(F16=1,"Pass"," ")
B17: OR | D17: =IF(A17="Yes",1,"-") -> - | G17: =IF(F17=1,"Pass"," ")
A18: - | B18: We have a written Business Management System (BMS) | C18: =IF(A18="Yes","To pass Credit 1.2a please provide evidence that your BMS contains the required policies and staff are trained - see Audit Guide Credit 1.2a",IF(A18="No","If no ISO9001 or BMS - Not Compliant - develop required policies - See Audit Guide","-")) -> - | D18: =IF(A18="Yes",1,"-") -> - | G18: =IF(F18=1,"Pass"," ")
B19: Not required if ISO9001 held as it sits within the standard | D19: =IF(A19="Yes",1,"-") -> - | G19: =IF(F19=1,"Pass"," ")
D20: =IF(A20="Yes",1,"-") -> - | G20: =IF(F20=1,"Pass"," ")
G21: =IF(F21=1,"Pass"," ")
A22: =IF(SUM(D21:D30)>0,"OK"," ") | B22: Credit 1.2b: Safety Management System | F22: =IF(A22="OK",1,0) -> 0 | G22: =IF(F22=1,"Pass"," ")
A23: - | B23: We have current ISO 45001:2018 accreditation | C23: =IF(A23="Yes","Congratulations you have everything required to pass Credit 1.2b - provide a copy of your certification as evidence",IF(A23="No","Refer below","-")) -> - | D23: =IF(A23="Yes",1,"-") -> - | G23: =IF(F23=1,"Pass"," ")
B24: OR | D24: =IF(A24="Yes",1,"-") -> - | G24: =IF(F24=1,"Pass"," ")
A25: - | B25: We have current 'Site Wise' Accreditation | C25: =IF(A25="Yes","Congratulations you have everything required to pass Credit 1.2b - provide a copy of your certification as evidence",IF(A25="No","Refer below","-")) -> - | D25: =IF(A25="Yes",1,"-") -> - | G25: =IF(F25=1,"Pass"," ")
B26: OR | D26: =IF(A26="Yes",1,"-") -> - | G26: =IF(F26=1,"Pass"," ")
A27: - | B27: We are a member of the ACC Accredited Employer's Programme | C27: =IF(A27="Yes","Congratulations you have everything required to pass Credit 1.2b - provide a copy of your certification as evidence",IF(A27="no","Refer below","-")) -> - | D27: =IF(A27="Yes",1,"-") -> - | G27: =IF(F27=1,"Pass"," ")
B28: OR | D28: =IF(A28="Yes",1,"-") -> - | G28: =IF(F28=1,"Pass"," ")
A29: - | B29: We have a comprehensive documented in-house H&S management system | C29: =IF(A29="Yes","Please provide evidence that your H&S system contains the required policies and staff are trained - see Audit Guide",IF(A29="No","If no documented policy or none of the above -Not Compliant - develop required policies - See Audit Guide for Credit 1.2b criteria","-")) -> - | D29: =IF(A29="Yes",1,"-") -> - | G29: =IF(F29=1,"Pass"," ")
D30: =IF(A30="Yes",1,"-") -> - | G30: =IF(F30=1,"Pass"," ")
D31: =IF(A31="Yes",1,"-") -> - | G31: =IF(F31=1,"Pass"," ")
A32: =IF(SUM(D33)>0,"OK"," ") | B32: Credit 1.3: Stakeholder Engagement | F32: =IF(A32="OK",1,0) -> 0 | G32: =IF(F32=1,"Pass"," ")
A33: - | B33: We have a stakeholder communication plan that meets the audit criteria | C33: =IF(A33="Yes","You appear to meet the criteria for pass - please provide evidence of compliance with the requirements - See Audit Guide",IF(A33="No","Not compliant - develop required policy and processes - See audit Guide for Credit 1.3 criteria","-")) -> - | D33: =IF(A33="Yes",1,"-") -> - | G33: =IF(F33=1,"Pass"," ")
D34: =IF(A34="Yes",1,"-") -> - | G34: =IF(F34=1,"Pass"," ")
G35: =IF(F35=1,"Pass"," ")
A36: =IF(SUM(D37:D43)>0,"OK","") | B36: Credit 2.1: Environmental Management System | D36: =(IF(SUM(D37:D43)>0,1," ")) | F36: =IF(A36="OK",1,0) -> 0 | G36: =IF(F36=1,"Pass"," ")
A37: - | B37: We have current ISO14001:2016 accreditation | C37: =IF(A37="Yes","Congratulations you have everything required to pass Credit 2.1 - provide a copy of your certification as evidence",IF(A37="No","Refer below","")) | D37: =IF(A37="Yes",1,"-") -> - | G37: =IF(F37=1,"Pass"," ")
B38: OR | D38: =IF(A38="Yes",1,"-") -> - | G38: =IF(F38=1,"Pass"," ")
A39: - | B39: We are certified to BS7750 or EMAS, or EPA Environmental Mgnmt Guidelines | C39: =IF(A39="Yes","Congratulations you have everything required to pass Credit 2.1 - provide a copy of your certification as evidence",IF(A39="No","Refer below","")) | D39: =IF(A39="Yes",1,"-") -> - | G39: =IF(F39=1,"Pass"," ")
B40: OR | D40: =IF(A40="Yes",1,"-") -> - | G40: =IF(F40=1,"Pass"," ")
A41: - | B41: We have Toitu Gold or Diamond Certification | C41: =IF(A41="Yes","Congratulations you have everything required to pass Credit 2.1 - provide a copy of your certification as evidence",IF(A41="No","Refer below","")) | D41: =IF(A41="Yes",1,"-") -> - | G41: =IF(F41=1,"Pass"," ")
B42: OR | D42: =IF(A42="Yes",1,"-") -> - | G42: =IF(F42=1,"Pass"," ")
...

Sheet RPP Level 2a
A1: ='RPP Level 1'!A1 -> Responsible Products SELF ASSESSMENT Checklist | C1: Level 2a (RPV 14)
A2: =Dashboard!A2 -> Version 20260617
A3: ='RPP Level 1'!A3 -> Please note - This is a self assessment to use in preparing your audit submission - it is NOT the audit - ensure you read and understand the relevant credit criteria in the Audit Guide
A4: ='RPP Level 1'!A4 -> Use the '+' and '-' signs at the left side of the sheet to open or close the credit - THEN - Select your status using the dropdown menue in the applicable box at Column A - THEN - Read and action any advice
A5: ='RPP Level 1'!A5 -> To keep yourself focussed and avoid and visual clutter - we suggest you work on one credit at a time.
A7: ='RPP Level 1'!A7 -> Select your Status | B7: Credits | C7: Commentary
A9: =IF(SUM(D10:D12)>0,"OK"," ") | B9: Credit 1.1: Business Integrity | F9: =IF(A9="OK",1,0) -> 0 | G9: =IF(F9=1,"Pass"," ")
A10: - | B10: We have current ISO 9001 accreditation | C10: =IF(A10="Yes","Congratulations you have everything required to pass Credit 1.1 - you will need a copy of your certification as evidence",IF(A10="No","Refer below","-")) -> - | D10: =IF(A10="Yes",1,"-") -> - | G10: =IF(F10=1,"Pass"," ")
A11: q | B11: OR | C11: q | D11: =IF(A11="Yes",1,"-") -> - | G11: =IF(F11=1,"Pass"," ")
A12: - | B12: We have a formalised written Code of Conduct addressing the required policies | C12: =IF(A12="Yes","To pass Credit 1.1 please provide evidence that your Code of Conduct contains the required policies and staff are trained - see Audit Guide",IF(A12="No","If no ISO9001 or Written Code - Not Compliant - develop required policies - See Audit Guide for Credit 1.1 criteria","-")) -> - | D12: =IF(A12="Yes",1,"-") -> - | G12: =IF(F12=1,"Pass"," ")
G13: =IF(F13=1,"Pass"," ")
D14: =IF(A14="Yes",1,"-") -> - | G14: =IF(F14=1,"Pass"," ")
A15: =IF(SUM(D16:D20)>0,"OK"," ") | B15: Credit 1.2a: Business Governance | F15: =IF(A15="OK",1,0) -> 0 | G15: =IF(F15=1,"Pass"," ")
A16: - | B16: =B10 -> We have current ISO 9001 accreditation | C16: =IF(A16="Yes","Congratulations you have everything required to pass Credit 1.2a - you will need a copy of your certification as evidence",IF(A16="No","Refer below","-")) -> - | D16: =IF(A16="Yes",1,"-") -> - | G16: =IF(F16=1,"Pass"," ")
B17: OR | D17: =IF(A17="Yes",1,"-") -> - | G17: =IF(F17=1,"Pass"," ")
A18: - | B18: We have a written Business Management System (BMS) | C18: =IF(A18="Yes","To pass Credit 1.2a please provide evidence that your BMS contains the required policies and staff are trained - see Audit Guide Credit 1.2a",IF(A18="No","If no ISO9001 or BMS - Not Compliant - develop required policies - See Audit Guide","-")) -> - | D18: =IF(A18="Yes",1,"-") -> - | G18: =IF(F18=1,"Pass"," ")
B19: Not required if ISO9001 held as it sits within the standard | D19: =IF(A19="Yes",1,"-") -> - | G19: =IF(F19=1,"Pass"," ")
D20: =IF(A20="Yes",1,"-") -> - | G20: =IF(F20=1,"Pass"," ")
G21: =IF(F21=1,"Pass"," ")
A22: =IF(SUM(D21:D30)>0,"OK"," ") | B22: Credit 1.2b: Safety Management System | F22: =IF(A22="OK",1,0) -> 0 | G22: =IF(F22=1,"Pass"," ")
A23: - | B23: We have current ISO 45001:2018 accreditation | C23: =IF(A23="Yes","Congratulations you have everything required to pass Credit 1.2b - provide a copy of your certification as evidence",IF(A23="No","Refer below","-")) -> - | D23: =IF(A23="Yes",1,"-") -> - | G23: =IF(F23=1,"Pass"," ")
B24: OR | D24: =IF(A24="Yes",1,"-") -> - | G24: =IF(F24=1,"Pass"," ")
A25: - | B25: We have current 'Site Wise' or 'Tōtika' Accreditation | C25: =IF(A25="Yes","Congratulations you have everything required to pass Credit 1.2b - provide a copy of your certification as evidence",IF(A25="No","Refer below","-")) -> - | D25: =IF(A25="Yes",1,"-") -> - | G25: =IF(F25=1,"Pass"," ")
B26: OR | D26: =IF(A26="Yes",1,"-") -> - | G26: =IF(F26=1,"Pass"," ")
A27: - | B27: We are a member of the ACC Accredited Employer's Programme | C27: =IF(A27="Yes","Congratulations you have everything required to pass Credit 1.2b - provide a copy of your certification as evidence",IF(A27="no","Refer below","-")) -> - | D27: =IF(A27="Yes",1,"-") -> - | G27: =IF(F27=1,"Pass"," ")
B28: OR | D28: =IF(A28="Yes",1,"-") -> - | G28: =IF(F28=1,"Pass"," ")
A29: - | B29: We have a comprehensive documented in-house H&S management system | C29: =IF(A29="Yes","Please provide evidence that your H&S system contains the required policies and staff are trained - see Audit Guide",IF(A29="No","If no documented policy or none of the above -Not Compliant - develop required policies - See Audit Guide for Credit 1.2b criteria","-")) -> - | D29: =IF(A29="Yes",1,"-") -> - | G29: =IF(F29=1,"Pass"," ")
D30: =IF(A30="Yes",1,"-") -> - | G30: =IF(F30=1,"Pass"," ")
D31: =IF(A31="Yes",1,"-") -> - | G31: =IF(F31=1,"Pass"," ")
A32: =IF(SUM(D33)>0,"OK"," ") | B32: Credit 1.3: Stakeholder Engagement | F32: =IF(A32="OK",1,0) -> 0 | G32: =IF(F32=1,"Pass"," ")
A33: - | B33: We have a stakeholder communication plan that meets the audit criteria | C33: =IF(A33="Yes","You appear to meet the criteria for pass - please provide evidence of compliance with the requirements - See Audit Guide",IF(A33="No","Not compliant - develop required policy and processes - See audit Guide for Credit 1.3 criteria","-")) -> - | D33: =IF(A33="Yes",1,"-") -> - | G33: =IF(F33=1,"Pass"," ")
D34: =IF(A34="Yes",1,"-") -> - | G34: =IF(F34=1,"Pass"," ")
G35: =IF(F35=1,"Pass"," ")
A36: =IF(SUM(D37:D43)>0,"OK","") | B36: Credit 2.1: Environmental Management System | D36: =(IF(SUM(D37:D43)>0,1," ")) | F36: =IF(A36="OK",1,0) -> 0 | G36: =IF(F36=1,"Pass"," ")
A37: - | B37: We have current ISO14001:2016 accreditation | C37: =IF(A37="Yes","Congratulations you have everything required to pass Credit 2.1 - provide a copy of your certification as evidence",IF(A37="No","Refer below","")) | D37: =IF(A37="Yes",1,"-") -> - | G37: =IF(F37=1,"Pass"," ")
B38: OR | D38: =IF(A38="Yes",1,"-") -> - | G38: =IF(F38=1,"Pass"," ")
A39: - | B39: We are certified to BS7750 or EMAS, or EPA Environmental Mgnmt Guidelines | C39: =IF(A39="Yes","Congratulations you have everything required to pass Credit 2.1 - provide a copy of your certification as evidence",IF(A39="No","Refer below","")) | D39: =IF(A39="Yes",1,"-") -> - | G39: =IF(F39=1,"Pass"," ")
B40: OR | D40: =IF(A40="Yes",1,"-") -> - | G40: =IF(F40=1,"Pass"," ")
A41: - | B41: We have Toitu Gold or Diamond Certification | C41: =IF(A41="Yes","Congratulations you have everything required to pass Credit 2.1 - provide a copy of your certification as evidence",IF(A41="No","Refer below","")) | D41: =IF(A41="Yes",1,"-") -> - | G41: =IF(F41=1,"Pass"," ")
B42: OR | D42: =IF(A42="Yes",1,"-") -> - | G42: =IF(F42=1,"Pass"," ")
...

Sheet RPP Level 3
A1: ='RPP Level 1'!A1 -> Responsible Products SELF ASSESSMENT Checklist | C1: Level 3 (RPV 18)
A2: =Dashboard!A2 -> Version 20260617
A3: ='RPP Level 1'!A3 -> Please note - This is a self assessment to use in preparing your audit submission - it is NOT the audit - ensure you read and understand the relevant credit criteria in the Audit Guide
A4: ='RPP Level 1'!A4 -> Use the '+' and '-' signs at the left side of the sheet to open or close the credit - THEN - Select your status using the dropdown menue in the applicable box at Column A - THEN - Read and action any advice
A5: ='RPP Level 1'!A5 -> To keep yourself focussed and avoid and visual clutter - we suggest you work on one credit at a time.
A7: ='RPP Level 1'!A7 -> Select your Status | B7: Credits | C7: Commentary
A9: =IF(SUM(D10:D12)>0,"OK"," ") | B9: Credit 1.1: Business Integrity | F9: =IF(A9="OK",1,0) -> 0 | G9: =IF(F9=1,"Pass"," ")
A10: - | B10: We have current ISO 9001 accreditation | C10: =IF(A10="Yes","Congratulations you have everything required to pass Credit 1.1 - you will need a copy of your certification as evidence",IF(A10="No","Refer below","-")) -> - | D10: =IF(A10="Yes",1,"-") -> - | G10: =IF(F10=1,"Pass"," ")
A11: q | B11: OR | C11: q | D11: =IF(A11="Yes",1,"-") -> - | G11: =IF(F11=1,"Pass"," ")
A12: - | B12: We have a formalised written Code of Conduct addressing the required policies | C12: =IF(A12="Yes","To pass Credit 1.1 please provide evidence that your Code of Conduct contains the required policies and staff are trained - see Audit Guide",IF(A12="No","If no ISO9001 or Written Code - Not Compliant - develop required policies - See Audit Guide for Credit 1.1 criteria","-")) -> - | D12: =IF(A12="Yes",1,"-") -> - | G12: =IF(F12=1,"Pass"," ")
G13: =IF(F13=1,"Pass"," ")
D14: =IF(A14="Yes",1,"-") -> - | G14: =IF(F14=1,"Pass"," ")
A15: =IF(SUM(D16:D30)>0,"OK"," ") | B15: Credit 1.2a: Business Governance | F15: =IF(A15="OK",1,0) -> 0 | G15: =IF(F15=1,"Pass"," ")
A16: - | B16: =B10 -> We have current ISO 9001 accreditation | C16: =IF(A16="Yes","Congratulations you have everything required to pass Credit 1.2a - you will need a copy of your certification as evidence",IF(A16="No","Refer below","-")) -> - | D16: =IF(A16="Yes",1,"-") -> - | G16: =IF(F16=1,"Pass"," ")
B17: OR | D17: =IF(A17="Yes",1,"-") -> - | G17: =IF(F17=1,"Pass"," ")
A18: - | B18: We have a written Business Management System (BMS) | C18: =IF(A18="Yes","To pass Credit 1.2a please provide evidence that your BMS contains the required policies and staff are trained - see Audit Guide Credit 1.2a",IF(A18="No","If no ISO9001 or BMS - Not Compliant - develop required policies - See Audit Guide","-")) -> - | D18: =IF(A18="Yes",1,"-") -> - | G18: =IF(F18=1,"Pass"," ")
B19: Not required if ISO9001 held as it sits within the standard | D19: =IF(A19="Yes",1,"-") -> - | G19: =IF(F19=1,"Pass"," ")
D20: =IF(A20="Yes",1,"-") -> - | G20: =IF(F20=1,"Pass"," ")
G21: =IF(F21=1,"Pass"," ")
A22: =IF(SUM(D22:D30)>0,"OK"," ") | B22: Credit 1.2b: Safety Management System | F22: =IF(A22="OK",1,0) -> 0 | G22: =IF(F22=1,"Pass"," ")
A23: - | B23: We have current ISO 45001:2018 accreditation | C23: =IF(A23="Yes","Congratulations you have everything required to pass Credit 1.2b - provide a copy of your certification as evidence",IF(A23="No","Refer below","-")) -> - | D23: =IF(A23="Yes",1,"-") -> - | G23: =IF(F23=1,"Pass"," ")
B24: OR | D24: =IF(A24="Yes",1,"-") -> - | G24: =IF(F24=1,"Pass"," ")
A25: - | B25: We have current 'Site Wise' or 'Tōtika' Accreditation | C25: =IF(A25="Yes","Congratulations you have everything required to pass Credit 1.2b - provide a copy of your certification as evidence",IF(A25="No","Refer below","-")) -> - | D25: =IF(A25="Yes",1,"-") -> - | G25: =IF(F25=1,"Pass"," ")
B26: OR | D26: =IF(A26="Yes",1,"-") -> - | G26: =IF(F26=1,"Pass"," ")
A27: - | B27: We are a member of the ACC Accredited Employer's Programme | C27: =IF(A27="Yes","Congratulations you have everything required to pass Credit 1.2b - provide a copy of your certification as evidence",IF(A27="no","Refer below","-")) -> - | D27: =IF(A27="Yes",1,"-") -> - | G27: =IF(F27=1,"Pass"," ")
B28: OR | D28: =IF(A28="Yes",1,"-") -> - | G28: =IF(F28=1,"Pass"," ")
A29: - | B29: We have a comprehensive documented in-house H&S management system | C29: =IF(A29="Yes","Please provide evidence that your H&S system contains the required policies and staff are trained - see Audit Guide",IF(A29="No","If no documented policy or none of the above -Not Compliant - develop required policies - See Audit Guide for Credit 1.2b criteria","-")) -> - | D29: =IF(A29="Yes",1,"-") -> - | G29: =IF(F29=1,"Pass"," ")
D30: =IF(A30="Yes",1,"-") -> - | G30: =IF(F30=1,"Pass"," ")
D31: =IF(A31="Yes",1,"-") -> - | G31: =IF(F31=1,"Pass"," ")
A32: =IF(SUM(D33)>0,"OK"," ") | B32: Credit 1.3: Stakeholder Engagement | F32: =IF(A32="OK",1,0) -> 0 | G32: =IF(F32=1,"Pass"," ")
A33: - | B33: We have a stakeholder communication plan that meets the audit criteria | C33: =IF(A33="Yes","You appear to meet the criteria for pass - please provide evidence of compliance with the requirements - See Audit Guide",IF(A33="No","Not compliant - develop required policy and processes - See audit Guide for Credit 1.3 criteria","-")) -> - | D33: =IF(A33="Yes",1,"-") -> - | G33: =IF(F33=1,"Pass"," ")
D34: =IF(A34="Yes",1,"-") -> - | G34: =IF(F34=1,"Pass"," ")
G35: =IF(F35=1,"Pass"," ")
A36: =IF(SUM(D37:D43)>0,"OK","") | B36: Credit 2.1: Environmental Management System | D36: =(IF(SUM(D37:D43)>0,1," ")) | F36: =IF(A36="OK",1,0) -> 0 | G36: =IF(F36=1,"Pass"," ")
A37: - | B37: We have current ISO14001:2016 accreditation | C37: =IF(A37="Yes","Congratulations you have everything required to pass Credit 2.1 - provide a copy of your certification as evidence",IF(A37="No","Refer below","")) | D37: =IF(A37="Yes",1,"-") -> - | G37: =IF(F37=1,"Pass"," ")
B38: OR | D38: =IF(A38="Yes",1,"-") -> - | G38: =IF(F38=1,"Pass"," ")
A39: - | B39: We are certified to BS7750 or EMAS, or EPA Environmental Mgnmt Guidelines | C39: =IF(A39="Yes","Congratulations you have everything required to pass Credit 2.1 - provide a copy of your certification as evidence",IF(A39="No","Refer below","")) | D39: =IF(A39="Yes",1,"-") -> - | G39: =IF(F39=1,"Pass"," ")
B40: OR | D40: =IF(A40="Yes",1,"-") -> - | G40: =IF(F40=1,"Pass"," ")
A41: - | B41: We have Toitu Gold or Diamond Certification | C41: =IF(A41="Yes","Congratulations you have everything required to pass Credit 2.1 - provide a copy of your certification as evidence",IF(A41="No","Refer below","")) | D41: =IF(A41="Yes",1,"-") -> - | G41: =IF(F41=1,"Pass"," ")
B42: OR | D42: =IF(A42="Yes",1,"-") -> - | G42: =IF(F42=1,"Pass"," ")
...

Sheet Lists
A2: -
A3: Yes
A4: -
